Workbook
Name Moneda: Inversiones!$C$7
Name ulmon: Inversiones!$J$89

Sheet Inversiones
D3: Reporte de Inversiones - Compañías de Seguros de Vida
D4: Datos a Junio de 2023
H5: Cifras en M$ | I5: 1
C6: Seleccionar Moneda | G6: =Moneda -> Cifras en UF | H6: Cifras en UF | I6: =1000/J6 -> 0.027708906 | J6: 36089.48
C7: Cifras en UF | G7: =VLOOKUP(G6,H5:I7,2,0) -> 0.027708906 | H7: Cifras en US$ | I7: =1000/J7 -> 1.2458265 | J7: 802.68
C8: copiar aquí para comparar | D8: 4LIFE | E8: ALEMANA | F8: BCI | G8: BICE | H8: BNP | I8: BUPA VIDA | J8: CAMARA | K8: CF | L8: CHUBB VIDA | M8: CLC | N8: CN LIFE | O8: COLMENA | P8: CONFUTURO | Q8: CONSORCIO NACIONAL | R8: DIVINAPASTORA | S8: EUROAMERICA | T8: HELP SEGUROS | U8: MAPFRE | V8: METLIFE | W8: MUT DE CARABINEROS | X8: MUT. EJERC. Y AVIAC. | Y8: MUTUAL DE SEGUROS | Z8: OHIO | AA8: PENTA | AB8: PRINCIPAL | AC8: RENTA NACIONAL | AD8: SAVE BCJ | AE8: SECURITY PREVISION | AF8: SURA | AG8: SURAMERICANA V | AH8: ZURICH CHILE V | AI8: ZURICH SANTANDER
C9: No modificar fila | D9: 4 Life Seguros | E9: Alemana Seguros | F9: BCI Seguros Vida | G9: BICE Vida | H9: BNP Paribas Cardif | I9: Bupa | J9: Cámara | K9: CF Seguros de Vida | L9: Chubb Vida | M9: CLC | N9: CN Life | O9: Colmena Seguros | P9: Confuturo | Q9: Consorcio Nacional | R9: Divina Pastora | S9: EuroAmérica | T9: Help Seguros | U9: MAPFRE vida | V9: METLIFE | W9: MUT DE CARABINEROS | X9: MUT. EJERC. Y AVIAC. | Y9: MUTUAL DE SEGUROS | Z9: OHIO national | AA9: PENTA vida | AB9: PRINCIPAL | AC9: RENTA NACIONAL | AD9: SAVE SEGUROS | AE9: SECURITY PREVISION | AF9: SURA | AG9: SURAMERICANA | AH9: ZURICH CHILE | AI9: ZURICH SANTANDER | AJ9: TOTAL CIAS. DE SEGUROS DE VIDA
C10: TIPO DE INSTRUMENTO | D10: =PROPER(D9) -> 4 Life Seguros | E10: =PROPER(E9) -> Alemana Seguros | F10: =F9 -> BCI Seguros Vida | G10: =G9 -> BICE Vida | H10: =H9 -> BNP Paribas Cardif | I10: =PROPER(I9) -> Bupa | J10: =PROPER(J9) -> Cámara | K10: =K9 -> CF Seguros de Vida | L10: =PROPER(L9) -> Chubb Vida | M10: CLC | N10: CN Life | O10: =PROPER(O9) -> Colmena Seguros | P10: =PROPER(P9) -> Confuturo | Q10: =PROPER(Q9) -> Consorcio Nacional | R10: =PROPER(R9) -> Divina Pastora | S10: =PROPER(S9) -> Euroamérica | T10: =PROPER(T9) -> Help Seguros | U10: =PROPER(U9) -> Mapfre Vida | V10: =PROPER(V9) -> Metlife | ... AJ10: =PROPER(AJ9) -> Total Cias. De Seguros De Vida
A11: 3 | B11: InstrumentosdelEstado | C11: Instrumentos del Estado | D11: =VLOOKUP(D$10,base!$A$8:$S$45,$A11,FALSE) -> 25290490 | E11: =VLOOKUP(E$10,base!$A$8:$S$45,$A11,FALSE) -> 2684451 | F11: =VLOOKUP(F$10,base!$A$8:$S$45,$A11,FALSE) -> 1907897 | G11: =VLOOKUP(G$10,base!$A$8:$S$45,$A11,FALSE) -> 12137315 | H11: =VLOOKUP(H$10,base!$A$8:$S$45,$A11,FALSE) -> 117346729 | I11: =VLOOKUP(I$10,base!$A$8:$S$45,$A11,FALSE) -> 5432259 | J11: =VLOOKUP(J$10,base!$A$8:$S$45,$A11,FALSE) -> 1917877 | K11: =VLOOKUP(K$10,base!$A$8:$S$45,$A11,FALSE) -> 19918429 | ... AJ11: =VLOOKUP(AJ$10,base!$A$8:$S$45,$A11,FALSE) -> 0
A12: 4 | B12: DepÃ³sitosaplazo | C12: Depósitos a Plazo | D12: =VLOOKUP(D$10,base!$A$8:$S$45,$A12,FALSE) -> 4697243 | E12: =VLOOKUP(E$10,base!$A$8:$S$45,$A12,FALSE) -> 0 | F12: =VLOOKUP(F$10,base!$A$8:$S$45,$A12,FALSE) -> 5029276 | G12: =VLOOKUP(G$10,base!$A$8:$S$45,$A12,FALSE) -> 61639951 | H12: =VLOOKUP(H$10,base!$A$8:$S$45,$A12,FALSE) -> 1142766 | I12: =VLOOKUP(I$10,base!$A$8:$S$45,$A12,FALSE) -> 2712448 | J12: =VLOOKUP(J$10,base!$A$8:$S$45,$A12,FALSE) -> 4303529 | K12: =VLOOKUP(K$10,base!$A$8:$S$45,$A12,FALSE) -> 0 | ... AJ12: =VLOOKUP(AJ$10,base!$A$8:$S$45,$A12,FALSE) -> 0
A13: 5 | B13: Bonosbancarios | C13: Bonos Bancarios | D13: =VLOOKUP(D$10,base!$A$8:$S$45,$A13,FALSE) -> 137054318 | E13: =VLOOKUP(E$10,base!$A$8:$S$45,$A13,FALSE) -> 3883836 | F13: =VLOOKUP(F$10,base!$A$8:$S$45,$A13,FALSE) -> 83456962 | G13: =VLOOKUP(G$10,base!$A$8:$S$45,$A13,FALSE) -> 591717146 | H13: =VLOOKUP(H$10,base!$A$8:$S$45,$A13,FALSE) -> 77756469 | I13: =VLOOKUP(I$10,base!$A$8:$S$45,$A13,FALSE) -> 3409162 | J13: =VLOOKUP(J$10,base!$A$8:$S$45,$A13,FALSE) -> 39719543 | K13: =VLOOKUP(K$10,base!$A$8:$S$45,$A13,FALSE) -> 9251628 | ... AJ13: =VLOOKUP(AJ$10,base!$A$8:$S$45,$A13,FALSE) -> 0
A14: 6 | B14: Letrashipotecarias | C14: Letras Hipotecarias | D14: =VLOOKUP(D$10,base!$A$8:$S$45,$A14,FALSE) -> 569362 | E14: =VLOOKUP(E$10,base!$A$8:$S$45,$A14,FALSE) -> 0 | F14: =VLOOKUP(F$10,base!$A$8:$S$45,$A14,FALSE) -> 51665 | G14: =VLOOKUP(G$10,base!$A$8:$S$45,$A14,FALSE) -> 3817730 | H14: =VLOOKUP(H$10,base!$A$8:$S$45,$A14,FALSE) -> 7761 | I14: =VLOOKUP(I$10,base!$A$8:$S$45,$A14,FALSE) -> 0 | J14: =VLOOKUP(J$10,base!$A$8:$S$45,$A14,FALSE) -> 0 | K14: =VLOOKUP(K$10,base!$A$8:$S$45,$A14,FALSE) -> 0 | ... AJ14: =VLOOKUP(AJ$10,base!$A$8:$S$45,$A14,FALSE) -> 0
A15: 7 | B15: Bonosydebentures | C15: Bonos y Debentures | D15: =VLOOKUP(D$10,base!$A$8:$S$45,$A15,FALSE) -> 309091756 | E15: =VLOOKUP(E$10,base!$A$8:$S$45,$A15,FALSE) -> 2966950 | F15: =VLOOKUP(F$10,base!$A$8:$S$45,$A15,FALSE) -> 73370309 | G15: =VLOOKUP(G$10,base!$A$8:$S$45,$A15,FALSE) -> 2182826029 | H15: =VLOOKUP(H$10,base!$A$8:$S$45,$A15,FALSE) -> 67090409 | I15: =VLOOKUP(I$10,base!$A$8:$S$45,$A15,FALSE) -> 0 | J15: =VLOOKUP(J$10,base!$A$8:$S$45,$A15,FALSE) -> 10410913 | K15: =VLOOKUP(K$10,base!$A$8:$S$45,$A15,FALSE) -> 0 | ... AJ15: =VLOOKUP(AJ$10,base!$A$8:$S$45,$A15,FALSE) -> 0
A16: 8 | B16: CrÃ©ditossindicados | C16: Créditos Sindicados | D16: =VLOOKUP(D$10,base!$A$8:$S$45,$A16,FALSE) -> 4483438 | E16: =VLOOKUP(E$10,base!$A$8:$S$45,$A16,FALSE) -> 0 | F16: =VLOOKUP(F$10,base!$A$8:$S$45,$A16,FALSE) -> 0 | G16: =VLOOKUP(G$10,base!$A$8:$S$45,$A16,FALSE) -> 91208362 | H16: =VLOOKUP(H$10,base!$A$8:$S$45,$A16,FALSE) -> 0 | I16: =VLOOKUP(I$10,base!$A$8:$S$45,$A16,FALSE) -> 0 | J16: =VLOOKUP(J$10,base!$A$8:$S$45,$A16,FALSE) -> 0 | K16: =VLOOKUP(K$10,base!$A$8:$S$45,$A16,FALSE) -> 0 | ... AJ16: =VLOOKUP(AJ$10,base!$A$8:$S$45,$A16,FALSE) -> 0
A17: 9 | B17: Mutuoshipotecarios | C17: Mutuos Hipotecarios | D17: =VLOOKUP(D$10,base!$A$8:$S$45,$A17,FALSE) -> 62516205 | E17: =VLOOKUP(E$10,base!$A$8:$S$45,$A17,FALSE) -> 0 | F17: =VLOOKUP(F$10,base!$A$8:$S$45,$A17,FALSE) -> 3483626 | G17: =VLOOKUP(G$10,base!$A$8:$S$45,$A17,FALSE) -> 929632977 | H17: =VLOOKUP(H$10,base!$A$8:$S$45,$A17,FALSE) -> 146476 | I17: =VLOOKUP(I$10,base!$A$8:$S$45,$A17,FALSE) -> 0 | J17: =VLOOKUP(J$10,base!$A$8:$S$45,$A17,FALSE) -> 0 | K17: =VLOOKUP(K$10,base!$A$8:$S$45,$A17,FALSE) -> 0 | ... AJ17: =VLOOKUP(AJ$10,base!$A$8:$S$45,$A17,FALSE) -> 0
A18: 10 | B18: AccionesdeS.A. | C18: Acciones de S.A. | D18: =VLOOKUP(D$10,base!$A$8:$S$45,$A18,FALSE) -> 4438191 | E18: =VLOOKUP(E$10,base!$A$8:$S$45,$A18,FALSE) -> 0 | F18: =VLOOKUP(F$10,base!$A$8:$S$45,$A18,FALSE) -> 351551 | G18: =VLOOKUP(G$10,base!$A$8:$S$45,$A18,FALSE) -> 4345899 | H18: =VLOOKUP(H$10,base!$A$8:$S$45,$A18,FALSE) -> 0 | I18: =VLOOKUP(I$10,base!$A$8:$S$45,$A18,FALSE) -> 0 | J18: =VLOOKUP(J$10,base!$A$8:$S$45,$A18,FALSE) -> 0 | K18: =VLOOKUP(K$10,base!$A$8:$S$45,$A18,FALSE) -> 0 | ... AJ18: =VLOOKUP(AJ$10,base!$A$8:$S$45,$A18,FALSE) -> 0
A19: 11 | B19: Fondosmutuos | C19: Fondos Mutuos | D19: =VLOOKUP(D$10,base!$A$8:$S$45,$A19,FALSE) -> 8715288 | E19: =VLOOKUP(E$10,base!$A$8:$S$45,$A19,FALSE) -> 19716 | F19: =VLOOKUP(F$10,base!$A$8:$S$45,$A19,FALSE) -> 20947199 | G19: =VLOOKUP(G$10,base!$A$8:$S$45,$A19,FALSE) -> 85013723 | H19: =VLOOKUP(H$10,base!$A$8:$S$45,$A19,FALSE) -> 13046872 | I19: =VLOOKUP(I$10,base!$A$8:$S$45,$A19,FALSE) -> 706581 | J19: =VLOOKUP(J$10,base!$A$8:$S$45,$A19,FALSE) -> 2050588 | K19: =VLOOKUP(K$10,base!$A$8:$S$45,$A19,FALSE) -> 1317655 | ... AJ19: =VLOOKUP(AJ$10,base!$A$8:$S$45,$A19,FALSE) -> 0
A20: 12 | B20: FondoinversiÃ³n | C20: Fondos de Inversión | D20: =VLOOKUP(D$10,base!$A$8:$S$45,$A20,FALSE) -> 71846516 | E20: =VLOOKUP(E$10,base!$A$8:$S$45,$A20,FALSE) -> 0 | F20: =VLOOKUP(F$10,base!$A$8:$S$45,$A20,FALSE) -> 16333563 | G20: =VLOOKUP(G$10,base!$A$8:$S$45,$A20,FALSE) -> 113329624 | H20: =VLOOKUP(H$10,base!$A$8:$S$45,$A20,FALSE) -> 0 | I20: =VLOOKUP(I$10,base!$A$8:$S$45,$A20,FALSE) -> 0 | J20: =VLOOKUP(J$10,base!$A$8:$S$45,$A20,FALSE) -> 0 | K20: =VLOOKUP(K$10,base!$A$8:$S$45,$A20,FALSE) -> 0 | ... AJ20: =VLOOKUP(AJ$10,base!$A$8:$S$45,$A20,FALSE) -> 0
A21: 13 | B21: InversiÃ³nexterior | C21: Inversión Exterior | D21: =VLOOKUP(D$10,base!$A$8:$S$45,$A21,FALSE) -> 218975863 | E21: =VLOOKUP(E$10,base!$A$8:$S$45,$A21,FALSE) -> 0 | F21: =VLOOKUP(F$10,base!$A$8:$S$45,$A21,FALSE) -> 10683740 | G21: =VLOOKUP(G$10,base!$A$8:$S$45,$A21,FALSE) -> 735358080 | H21: =VLOOKUP(H$10,base!$A$8:$S$45,$A21,FALSE) -> 0 | I21: =VLOOKUP(I$10,base!$A$8:$S$45,$A21,FALSE) -> 0 | J21: =VLOOKUP(J$10,base!$A$8:$S$45,$A21,FALSE) -> 0 | K21: =VLOOKUP(K$10,base!$A$8:$S$45,$A21,FALSE) -> 0 | ... AJ21: =VLOOKUP(AJ$10,base!$A$8:$S$45,$A21,FALSE) -> 0
A22: 14 | B22: Cuentascorrientes | C22: Cuentas Corrientes | D22: =VLOOKUP(D$10,base!$A$8:$S$45,$A22,FALSE) -> 1782187 | E22: =VLOOKUP(E$10,base!$A$8:$S$45,$A22,FALSE) -> 520775 | F22: =VLOOKUP(F$10,base!$A$8:$S$45,$A22,FALSE) -> 6384679 | G22: =VLOOKUP(G$10,base!$A$8:$S$45,$A22,FALSE) -> 3187738 | H22: =VLOOKUP(H$10,base!$A$8:$S$45,$A22,FALSE) -> 720039 | I22: =VLOOKUP(I$10,base!$A$8:$S$45,$A22,FALSE) -> 96535 | J22: =VLOOKUP(J$10,base!$A$8:$S$45,$A22,FALSE) -> 336872 | K22: =VLOOKUP(K$10,base!$A$8:$S$45,$A22,FALSE) -> 534474 | ... AJ22: =VLOOKUP(AJ$10,base!$A$8:$S$45,$A22,FALSE) -> 0
... A26: 18 | B26: Otros(3) | C26: Otros | D26: =VLOOKUP(D$10,base!$A$8:$S$45,$A26,FALSE) -> 26281370 | E26: =VLOOKUP(E$10,base!$A$8:$S$45,$A26,FALSE) -> 117023 | F26: =VLOOKUP(F$10,base!$A$8:$S$45,$A26,FALSE) -> 715550 | G26: =VLOOKUP(G$10,base!$A$8:$S$45,$A26,FALSE) -> 185427790 | H26: =VLOOKUP(H$10,base!$A$8:$S$45,$A26,FALSE) -> 1874158 | I26: =VLOOKUP(I$10,base!$A$8:$S$45,$A26,FALSE) -> 1378 | J26: =VLOOKUP(J$10,base!$A$8:$S$45,$A26,FALSE) -> 758276 | K26: =VLOOKUP(K$10,base!$A$8:$S$45,$A26,FALSE) -> 1000 | ... AJ26: =VLOOKUP(AJ$10,base!$A$8:$S$45,$A26,FALSE) -> 0
A27: 19 | B27: TOTAL | C27: Total | D27: =SUM(D11:D26)-D50 -> 9.6407269e+08 | E27: =SUM(E11:E26)-E50 -> 9910321 | F27: =SUM(F11:F26)-F50 -> 2.4918907e+08 | G27: =SUM(G11:G26)-G50 -> 5.8489758e+09 | H27: =SUM(H11:H26)-H50 -> 2.7422344e+08 | I27: =SUM(I11:I26)-I50 -> 12015926 | J27: =SUM(J11:J26)-J50 -> 63585044 | K27: =SUM(K11:K26)-K50 -> 30163567 | ... AI27: =SUM(AI11:AI26)-AI50 -> 1.6664606e+08 | AJ27: =VLOOKUP(AJ$10,base!$A$8:$S$45,$A27,FALSE) -> 0
C29: TIPO DE INSTRUMENTO | D29: =D10 -> 4 Life Seguros | E29: =E10 -> Alemana Seguros | F29: =F10 -> BCI Seguros Vida | G29: =G10 -> BICE Vida | H29: =H10 -> BNP Paribas Cardif | I29: =I10 -> Bupa | J29: =J10 -> Cámara | K29: =K10 -> CF Seguros de Vida | ... AI29: =AI10 -> Zurich Santander | AJ29: TOTAL MERCADO | AK29: PART% MERCADO
C30: Renta Fija | D30: =SUM(D31:D35) -> 13317378 | E30: =SUM(E31:E35) -> 264210.98 | F30: =SUM(F31:F35) -> 4537733.5 | G30: =SUM(G31:G35) -> 81451127 | H30: =SUM(H31:H35) -> 7296762.7 | I30: =SUM(I31:I35) -> 320145.07 | J30: =SUM(J31:J35) -> 1561448.4 | K30: =SUM(K31:K35) -> 808270.36 | ... AI30: =SUM(AI31:AI35) -> 2912734.8 | AJ30: =SUM(D30:AI30) -> 7.3569727e+08 | AK30: =AJ30/$AJ$50 -> 0.44481809
C31: Instrumentos del Estado | D31: =$G$7*OFFSET($C$10,MATCH($C31,$C$11:$C$26,0),MATCH(D$29,$D$10:$AI$10,0)) -> 700771.8 | E31: =$G$7*OFFSET($C$10,MATCH($C31,$C$11:$C$26,0),MATCH(E$29,$D$10:$AI$10,0)) -> 74383.2 | F31: =$G$7*OFFSET($C$10,MATCH($C31,$C$11:$C$26,0),MATCH(F$29,$D$10:$AI$10,0)) -> 52865.738 | G31: =$G$7*OFFSET($C$10,MATCH($C31,$C$11:$C$26,0),MATCH(G$29,$D$10:$AI$10,0)) -> 336311.72 | H31: =$G$7*OFFSET($C$10,MATCH($C31,$C$11:$C$26,0),MATCH(H$29,$D$10:$AI$10,0)) -> 3251549.5 | I31: =$G$7*OFFSET($C$10,MATCH($C31,$C$11:$C$26,0),MATCH(I$29,$D$10:$AI$10,0)) -> 150521.95 | J31: =$G$7*OFFSET($C$10,MATCH($C31,$C$11:$C$26,0),MATCH(J$29,$D$10:$AI$10,0)) -> 53142.273 | K31: =$G$7*OFFSET($C$10,MATCH($C31,$C$11:$C$26,0),MATCH(K$29,$D$10:$AI$10,0)) -> 551917.87 | ... AI31: =$G$7*OFFSET($C$10,MATCH($C31,$C$11:$C$26,0),MATCH(AI$29,$D$10:$AI$10,0)) -> 369849.52 | AJ31: =SUM(D31:AI31) -> 45998733 | AK31: =AJ31/$AJ$50 -> 0.027811804
C32: Depósitos a Plazo | D32: =$G$7*OFFSET($C$10,MATCH($C32,$C$11:$C$26,0),MATCH(D$29,$D$10:$AI$10,0)) -> 130155.46 | E32: =$G$7*OFFSET($C$10,MATCH($C32,$C$11:$C$26,0),MATCH(E$29,$D$10:$AI$10,0)) -> 0 | F32: =$G$7*OFFSET($C$10,MATCH($C32,$C$11:$C$26,0),MATCH(F$29,$D$10:$AI$10,0)) -> 139355.73 | G32: =$G$7*OFFSET($C$10,MATCH($C32,$C$11:$C$26,0),MATCH(G$29,$D$10:$AI$10,0)) -> 1707975.6 | H32: =$G$7*OFFSET($C$10,MATCH($C32,$C$11:$C$26,0),MATCH(H$29,$D$10:$AI$10,0)) -> 31664.795 | I32: =$G$7*OFFSET($C$10,MATCH($C32,$C$11:$C$26,0),MATCH(I$29,$D$10:$AI$10,0)) -> 75158.966 | J32: =$G$7*OFFSET($C$10,MATCH($C32,$C$11:$C$26,0),MATCH(J$29,$D$10:$AI$10,0)) -> 119246.08 | K32: =$G$7*OFFSET($C$10,MATCH($C32,$C$11:$C$26,0),MATCH(K$29,$D$10:$AI$10,0)) -> 0 | ... AI32: =$G$7*OFFSET($C$10,MATCH($C32,$C$11:$C$26,0),MATCH(AI$29,$D$10:$AI$10,0)) -> 326136.79 | AJ32: =SUM(D32:AI32) -> 34682161 | AK32: =AJ32/$AJ$50 -> 0.020969566
C33: Bonos Bancarios | D33: =$G$7*OFFSET($C$10,MATCH($C33,$C$11:$C$26,0),MATCH(D$29,$D$10:$AI$10,0)) -> 3797625.2 | E33: =$G$7*OFFSET($C$10,MATCH($C33,$C$11:$C$26,0),MATCH(E$29,$D$10:$AI$10,0)) -> 107616.85 | F33: =$G$7*OFFSET($C$10,MATCH($C33,$C$11:$C$26,0),MATCH(F$29,$D$10:$AI$10,0)) -> 2312501.1 | G33: =$G$7*OFFSET($C$10,MATCH($C33,$C$11:$C$26,0),MATCH(G$29,$D$10:$AI$10,0)) -> 16395835 | H33: =$G$7*OFFSET($C$10,MATCH($C33,$C$11:$C$26,0),MATCH(H$29,$D$10:$AI$10,0)) -> 2154546.7 | I33: =$G$7*OFFSET($C$10,MATCH($C33,$C$11:$C$26,0),MATCH(I$29,$D$10:$AI$10,0)) -> 94464.149 | J33: =$G$7*OFFSET($C$10,MATCH($C33,$C$11:$C$26,0),MATCH(J$29,$D$10:$AI$10,0)) -> 1100585.1 | K33: =$G$7*OFFSET($C$10,MATCH($C33,$C$11:$C$26,0),MATCH(K$29,$D$10:$AI$10,0)) -> 256352.49 | ... AI33: =$G$7*OFFSET($C$10,MATCH($C33,$C$11:$C$26,0),MATCH(AI$29,$D$10:$AI$10,0)) -> 157610.97 | AJ33: =SUM(D33:AI33) -> 1.766403e+08 | AK33: =AJ33/$AJ$50 -> 0.10680045
C34: Bonos y Debentures | D34: =$G$7*OFFSET($C$10,MATCH($C34,$C$11:$C$26,0),MATCH(D$29,$D$10:$AI$10,0)) -> 8564594.3 | E34: =$G$7*OFFSET($C$10,MATCH($C34,$C$11:$C$26,0),MATCH(E$29,$D$10:$AI$10,0)) -> 82210.938 | F34: =$G$7*OFFSET($C$10,MATCH($C34,$C$11:$C$26,0),MATCH(F$29,$D$10:$AI$10,0)) -> 2033011 | G34: =$G$7*OFFSET($C$10,MATCH($C34,$C$11:$C$26,0),MATCH(G$29,$D$10:$AI$10,0)) -> 60483721 | H34: =$G$7*OFFSET($C$10,MATCH($C34,$C$11:$C$26,0),MATCH(H$29,$D$10:$AI$10,0)) -> 1859001.8 | I34: =$G$7*OFFSET($C$10,MATCH($C34,$C$11:$C$26,0),MATCH(I$29,$D$10:$AI$10,0)) -> 0 | J34: =$G$7*OFFSET($C$10,MATCH($C34,$C$11:$C$26,0),MATCH(J$29,$D$10:$AI$10,0)) -> 288475.01 | K34: =$G$7*OFFSET($C$10,MATCH($C34,$C$11:$C$26,0),MATCH(K$29,$D$10:$AI$10,0)) -> 0 | ... AI34: =$G$7*OFFSET($C$10,MATCH($C34,$C$11:$C$26,0),MATCH(AI$29,$D$10:$AI$10,0)) -> 2059137.5 | AJ34: =SUM(D34:AI34) -> 4.4323216e+08 | AK34: =AJ34/$AJ$50 -> 0.26798751
C35: Créditos Sindicados | D35: =$G$7*OFFSET($C$10,MATCH($C35,$C$11:$C$26,0),MATCH(D$29,$D$10:$AI$10,0)) -> 124231.16 | E35: =$G$7*OFFSET($C$10,MATCH($C35,$C$11:$C$26,0),MATCH(E$29,$D$10:$AI$10,0)) -> 0 | F35: =$G$7*OFFSET($C$10,MATCH($C35,$C$11:$C$26,0),MATCH(F$29,$D$10:$AI$10,0)) -> 0 | G35: =$G$7*OFFSET($C$10,MATCH($C35,$C$11:$C$26,0),MATCH(G$29,$D$10:$AI$10,0)) -> 2527283.9 | H35: =$G$7*OFFSET($C$10,MATCH($C35,$C$11:$C$26,0),MATCH(H$29,$D$10:$AI$10,0)) -> 0 | I35: =$G$7*OFFSET($C$10,MATCH($C35,$C$11:$C$26,0),MATCH(I$29,$D$10:$AI$10,0)) -> 0 | J35: =$G$7*OFFSET($C$10,MATCH($C35,$C$11:$C$26,0),MATCH(J$29,$D$10:$AI$10,0)) -> 0 | K35: =$G$7*OFFSET($C$10,MATCH($C35,$C$11:$C$26,0),MATCH(K$29,$D$10:$AI$10,0)) -> 0 | ... AI35: =$G$7*OFFSET($C$10,MATCH($C35,$C$11:$C$26,0),MATCH(AI$29,$D$10:$AI$10,0)) -> 0 | AJ35: =SUM(D35:AI35) -> 35143918 | AK35: =AJ35/$AJ$50 -> 0.021248754
C36: Renta Variable | D36: =SUM(D37:D39) -> 2355256.9 | E36: =SUM(E37:E39) -> 546.30879 | F36: =SUM(F37:F39) -> 1042750.2 | G36: =SUM(G37:G39) -> 5616297.2 | H36: =SUM(H37:H39) -> 361514.55 | I36: =SUM(I37:I39) -> 19578.586 | J36: =SUM(J37:J39) -> 56819.55 | K36: =SUM(K37:K39) -> 36510.778 | ... AI36: =SUM(AI37:AI39) -> 331626.36 | AJ36: =SUM(D36:AI36) -> 1.3179217e+08 | AK36: =AJ36/$AJ$50 -> 0.079684328
C37: Acciones de S.A. | D37: =$G$7*OFFSET($C$10,MATCH($C37,$C$11:$C$26,0),MATCH(D$29,$D$10:$AI$10,0)) -> 122977.42 | E37: =$G$7*OFFSET($C$10,MATCH($C37,$C$11:$C$26,0),MATCH(E$29,$D$10:$AI$10,0)) -> 0 | F37: =$G$7*OFFSET($C$10,MATCH($C37,$C$11:$C$26,0),MATCH(F$29,$D$10:$AI$10,0)) -> 9741.0935 | G37: =$G$7*OFFSET($C$10,MATCH($C37,$C$11:$C$26,0),MATCH(G$29,$D$10:$AI$10,0)) -> 120420.11 | H37: =$G$7*OFFSET($C$10,MATCH($C37,$C$11:$C$26,0),MATCH(H$29,$D$10:$AI$10,0)) -> 0 | I37: =$G$7*OFFSET($C$10,MATCH($C37,$C$11:$C$26,0),MATCH(I$29,$D$10:$AI$10,0)) -> 0 | J37: =$G$7*OFFSET($C$10,MATCH($C37,$C$11:$C$26,0),MATCH(J$29,$D$10:$AI$10,0)) -> 0 | K37: =$G$7*OFFSET($C$10,MATCH($C37,$C$11:$C$26,0),MATCH(K$29,$D$10:$AI$10,0)) -> 0 | ... AI37: =$G$7*OFFSET($C$10,MATCH($C37,$C$11:$C$26,0),MATCH(AI$29,$D$10:$AI$10,0)) -> 0 | AJ37: =SUM(D37:AI37) -> 10844832 | AK37: =AJ37/$AJ$50 -> 0.0065570144
C38: Fondos Mutuos | D38: =$G$7*OFFSET($C$10,MATCH($C38,$C$11:$C$26,0),MATCH(D$29,$D$10:$AI$10,0)) -> 241491.09 | E38: =$G$7*OFFSET($C$10,MATCH($C38,$C$11:$C$26,0),MATCH(E$29,$D$10:$AI$10,0)) -> 546.30879 | F38: =$G$7*OFFSET($C$10,MATCH($C38,$C$11:$C$26,0),MATCH(F$29,$D$10:$AI$10,0)) -> 580423.96 | G38: =$G$7*OFFSET($C$10,MATCH($C38,$C$11:$C$26,0),MATCH(G$29,$D$10:$AI$10,0)) -> 2355637.2 | H38: =$G$7*OFFSET($C$10,MATCH($C38,$C$11:$C$26,0),MATCH(H$29,$D$10:$AI$10,0)) -> 361514.55 | I38: =$G$7*OFFSET($C$10,MATCH($C38,$C$11:$C$26,0),MATCH(I$29,$D$10:$AI$10,0)) -> 19578.586 | J38: =$G$7*OFFSET($C$10,MATCH($C38,$C$11:$C$26,0),MATCH(J$29,$D$10:$AI$10,0)) -> 56819.55 | K38: =$G$7*OFFSET($C$10,MATCH($C38,$C$11:$C$26,0),MATCH(K$29,$D$10:$AI$10,0)) -> 36510.778 | ... AI38: =$G$7*OFFSET($C$10,MATCH($C38,$C$11:$C$26,0),MATCH(AI$29,$D$10:$AI$10,0)) -> 181867.6 | AJ38: =SUM(D38:AI38) -> 62374645 | AK38: =AJ38/$AJ$50 -> 0.037713026
C39: Fondos de Inversión | D39: =$G$7*OFFSET($C$10,MATCH($C39,$C$11:$C$26,0),MATCH(D$29,$D$10:$AI$10,0)) -> 1990788.3 | E39: =$G$7*OFFSET($C$10,MATCH($C39,$C$11:$C$26,0),MATCH(E$29,$D$10:$AI$10,0)) -> 0 | F39: =$G$7*OFFSET($C$10,MATCH($C39,$C$11:$C$26,0),MATCH(F$29,$D$10:$AI$10,0)) -> 452585.16 | G39: =$G$7*OFFSET($C$10,MATCH($C39,$C$11:$C$26,0),MATCH(G$29,$D$10:$AI$10,0)) -> 3140239.9 | H39: =$G$7*OFFSET($C$10,MATCH($C39,$C$11:$C$26,0),MATCH(H$29,$D$10:$AI$10,0)) -> 0 | I39: =$G$7*OFFSET($C$10,MATCH($C39,$C$11:$C$26,0),MATCH(I$29,$D$10:$AI$10,0)) -> 0 | J39: =$G$7*OFFSET($C$10,MATCH($C39,$C$11:$C$26,0),MATCH(J$29,$D$10:$AI$10,0)) -> 0 | K39: =$G$7*OFFSET($C$10,MATCH($C39,$C$11:$C$26,0),MATCH(K$29,$D$10:$AI$10,0)) -> 0 | ... AI39: =$G$7*OFFSET($C$10,MATCH($C39,$C$11:$C$26,0),MATCH(AI$29,$D$10:$AI$10,0)) -> 149758.77 | AJ39: =SUM(D39:AI39) -> 58572697 | AK39: =AJ39/$AJ$50 -> 0.035414288
C40: Inversión Exterior | D40: =$G$7*OFFSET($C$10,MATCH($C40,$C$11:$C$26,0),MATCH(D$29,$D$10:$AI$10,0)) -> 6067581.6 | E40: =$G$7*OFFSET($C$10,MATCH($C40,$C$11:$C$26,0),MATCH(E$29,$D$10:$AI$10,0)) -> 0 | F40: =$G$7*OFFSET($C$10,MATCH($C40,$C$11:$C$26,0),MATCH(F$29,$D$10:$AI$10,0)) -> 296034.74 | G40: =$G$7*OFFSET($C$10,MATCH($C40,$C$11:$C$26,0),MATCH(G$29,$D$10:$AI$10,0)) -> 20375968 | H40: =$G$7*OFFSET($C$10,MATCH($C40,$C$11:$C$26,0),MATCH(H$29,$D$10:$AI$10,0)) -> 0 | I40: =$G$7*OFFSET($C$10,MATCH($C40,$C$11:$C$26,0),MATCH(I$29,$D$10:$AI$10,0)) -> 0 | J40: =$G$7*OFFSET($C$10,MATCH($C40,$C$11:$C$26,0),MATCH(J$29,$D$10:$AI$10,0)) -> 0 | K40: =$G$7*OFFSET($C$10,MATCH($C40,$C$11:$C$26,0),MATCH(K$29,$D$10:$AI$10,0)) -> 0 | ... AI40: =$G$7*OFFSET($C$10,MATCH($C40,$C$11:$C$26,0),MATCH(AI$29,$D$10:$AI$10,0)) -> 209747.85 | AJ40: =SUM(D40:AI40) -> 2.6164521e+08 | AK40: =AJ40/$AJ$50 -> 0.15819621
C41: Inversiones Inmobiliarias | D41: =SUM(D42:D44) -> 4956866.2 | E41: =SUM(E42:E44) -> 0 | F41: =SUM(F42:F44) -> 1028274.1 | G41: =SUM(G42:G44) -> 51912351 | H41: =SUM(H42:H44) -> 84816.24 | I41: =SUM(I42:I44) -> 0 | J41: =SUM(J42:J44) -> 163469.49 | K41: =SUM(K42:K44) -> 0 | ... AI41: =SUM(AI42:AI44) -> 1255043 | AJ41: =SUM(D41:AI41) -> 4.4843492e+08 | AK41: =AJ41/$AJ$50 -> 0.27113321
C42: Bienes Raíces y Leasing | D42: =$G$7*OFFSET($C$10,MATCH($C41,$C$11:$C$26,0),MATCH(D$29,$D$10:$AI$10,0)) -> 3208834.2 | E42: =$G$7*OFFSET($C$10,MATCH($C41,$C$11:$C$26,0),MATCH(E$29,$D$10:$AI$10,0)) -> 0 | F42: =$G$7*OFFSET($C$10,MATCH($C41,$C$11:$C$26,0),MATCH(F$29,$D$10:$AI$10,0)) -> 930315.04 | G42: =$G$7*OFFSET($C$10,MATCH($C41,$C$11:$C$26,0),MATCH(G$29,$D$10:$AI$10,0)) -> 26047453 | H42: =$G$7*OFFSET($C$10,MATCH($C41,$C$11:$C$26,0),MATCH(H$29,$D$10:$AI$10,0)) -> 80542.502 | I42: =$G$7*OFFSET($C$10,MATCH($C41,$C$11:$C$26,0),MATCH(I$29,$D$10:$AI$10,0)) -> 0 | J42: =$G$7*OFFSET($C$10,MATCH($C41,$C$11:$C$26,0),MATCH(J$29,$D$10:$AI$10,0)) -> 163469.49 | K42: =$G$7*OFFSET($C$10,MATCH($C41,$C$11:$C$26,0),MATCH(K$29,$D$10:$AI$10,0)) -> 0 | ... AI42: =$G$7*OFFSET($C$10,MATCH($C41,$C$11:$C$26,0),MATCH(AI$29,$D$10:$AI$10,0)) -> 650407.74 | AJ42: =SUM(D42:AI42) -> 2.6793523e+08 | AK42: =AJ42/$AJ$50 -> 0.16199929
C43: Letras Hipotecarias | D43: =$G$7*OFFSET($C$10,MATCH($C43,$C$11:$C$26,0),MATCH(D$29,$D$10:$AI$10,0)) -> 15776.398 | E43: =$G$7*OFFSET($C$10,MATCH($C43,$C$11:$C$26,0),MATCH(E$29,$D$10:$AI$10,0)) -> 0 | F43: =$G$7*OFFSET($C$10,MATCH($C43,$C$11:$C$26,0),MATCH(F$29,$D$10:$AI$10,0)) -> 1431.5806 | G43: =$G$7*OFFSET($C$10,MATCH($C43,$C$11:$C$26,0),MATCH(G$29,$D$10:$AI$10,0)) -> 105785.12 | H43: =$G$7*OFFSET($C$10,MATCH($C43,$C$11:$C$26,0),MATCH(H$29,$D$10:$AI$10,0)) -> 215.04882 | I43: =$G$7*OFFSET($C$10,MATCH($C43,$C$11:$C$26,0),MATCH(I$29,$D$10:$AI$10,0)) -> 0 | J43: =$G$7*OFFSET($C$10,MATCH($C43,$C$11:$C$26,0),MATCH(J$29,$D$10:$AI$10,0)) -> 0 | K43: =$G$7*OFFSET($C$10,MATCH($C43,$C$11:$C$26,0),MATCH(K$29,$D$10:$AI$10,0)) -> 0 | ... AI43: =$G$7*OFFSET($C$10,MATCH($C43,$C$11:$C$26,0),MATCH(AI$29,$D$10:$AI$10,0)) -> 119370.19 | AJ43: =SUM(D43:AI43) -> 5236420.2 | AK43: =AJ43/$AJ$50 -> 0.0031660501
C44: Mutuos Hipotecarios | D44: =$G$7*OFFSET($C$10,MATCH($C44,$C$11:$C$26,0),MATCH(D$29,$D$10:$AI$10,0)) -> 1732255.6 | E44: =$G$7*OFFSET($C$10,MATCH($C44,$C$11:$C$26,0),MATCH(E$29,$D$10:$AI$10,0)) -> 0 | F44: =$G$7*OFFSET($C$10,MATCH($C44,$C$11:$C$26,0),MATCH(F$29,$D$10:$AI$10,0)) -> 96527.465 | G44: =$G$7*OFFSET($C$10,MATCH($C44,$C$11:$C$26,0),MATCH(G$29,$D$10:$AI$10,0)) -> 25759113 | H44: =$G$7*OFFSET($C$10,MATCH($C44,$C$11:$C$26,0),MATCH(H$29,$D$10:$AI$10,0)) -> 4058.6897 | I44: =$G$7*OFFSET($C$10,MATCH($C44,$C$11:$C$26,0),MATCH(I$29,$D$10:$AI$10,0)) -> 0 | J44: =$G$7*OFFSET($C$10,MATCH($C44,$C$11:$C$26,0),MATCH(J$29,$D$10:$AI$10,0)) -> 0 | K44: =$G$7*OFFSET($C$10,MATCH($C44,$C$11:$C$26,0),MATCH(K$29,$D$10:$AI$10,0)) -> 0 | ... AI44: =$G$7*OFFSET($C$10,MATCH($C44,$C$11:$C$26,0),MATCH(AI$29,$D$10:$AI$10,0)) -> 485265.1 | AJ44: =SUM(D44:AI44) -> 1.7526327e+08 | AK44: =AJ44/$AJ$50 -> 0.10596787
C45: Otros | D45: =SUM(D46:D49) -> 777610.46 | E45: =SUM(E46:E49) -> 17672.685 | F45: =SUM(F46:F49) -> 196739.58 | G45: =SUM(G46:G49) -> 7331704.6 | H45: =SUM(H46:H49) -> 71882.36 | I45: =SUM(I46:I49) -> 2713.0621 | J45: =SUM(J46:J49) -> 30345.353 | K45: =SUM(K46:K49) -> 14837.399 | ... AI45: =SUM(AI46:AI49) -> 40022.411 | AJ45: =SUM(D45:AI45) -> 76358840 | AK45: =AJ45/$AJ$50 -> 0.046168165
C46: Cuentas Corrientes | D46: =$G$7*OFFSET($C$10,MATCH($C46,$C$11:$C$26,0),MATCH(D$29,$D$10:$AI$10,0)) -> 49382.452 | E46: =$G$7*OFFSET($C$10,MATCH($C46,$C$11:$C$26,0),MATCH(E$29,$D$10:$AI$10,0)) -> 14430.105 | F46: =$G$7*OFFSET($C$10,MATCH($C46,$C$11:$C$26,0),MATCH(F$29,$D$10:$AI$10,0)) -> 176912.47 | G46: =$G$7*OFFSET($C$10,MATCH($C46,$C$11:$C$26,0),MATCH(G$29,$D$10:$AI$10,0)) -> 88328.732 | H46: =$G$7*OFFSET($C$10,MATCH($C46,$C$11:$C$26,0),MATCH(H$29,$D$10:$AI$10,0)) -> 19951.493 | I46: =$G$7*OFFSET($C$10,MATCH($C46,$C$11:$C$26,0),MATCH(I$29,$D$10:$AI$10,0)) -> 2674.8792 | J46: =$G$7*OFFSET($C$10,MATCH($C46,$C$11:$C$26,0),MATCH(J$29,$D$10:$AI$10,0)) -> 9334.3545 | K46: =$G$7*OFFSET($C$10,MATCH($C46,$C$11:$C$26,0),MATCH(K$29,$D$10:$AI$10,0)) -> 14809.69 | ... AI46: =$G$7*OFFSET($C$10,MATCH($C46,$C$11:$C$26,0),MATCH(AI$29,$D$10:$AI$10,0)) -> 31243.648 | AJ46: =SUM(D46:AI46) -> 2801678 | AK46: =AJ46/$AJ$50 -> 0.0016939536
...

Sheet base
A1: COMISIÓN PARA EL MERCADO FINANCIERO
A2: Tipo de compañía: CIAS. DE SEGUROS DE VIDA Y CIAS. REASEGURADORAS DE VIDA
C6: InstrumentosdelEstado | D6: DepÃ³sitosaplazo | E6: Bonosbancarios | F6: Letrashipotecarias | G6: Bonosydebentures | H6: CrÃ©ditossindicados | I6: Mutuoshipotecarios | J6: AccionesdeS.A. | K6: Fondosmutuos | L6: FondoinversiÃ³n | M6: InversiÃ³nexterior | N6: Cuentascorrientes | O6: Avancetened.depÃ³lizas | P6: Inversionesinmobiliarias | Q6: PrÃ©stamos | R6: Otros(3) | S6: TOTAL
A7: Razón social | B7: TipodecompaÃ±Ã­a | C7: InstrumentosdelEstado | D7: DepÃ³sitosaplazo | E7: Bonosbancarios | F7: Letrashipotecarias | G7: Bonosydebentures | H7: CrÃ©ditossindicados | I7: Mutuoshipotecarios | J7: AccionesdeS.A. | K7: Fondosmutuos | L7: FondoinversiÃ³n | M7: InversiÃ³nexterior | N7: Cuentascorrientes | O7: Avancetened.depÃ³lizas | P7: Inversionesinmobiliarias | Q7: PrÃ©stamos | R7: Otros(3) | S7: TOTAL
A8: 4 Life Seguros | B8: 4LIFE | C8: 25290490 | D8: 4697243 | E8: 137054318 | F8: 569362 | G8: 309091756 | H8: 4483438 | I8: 62516205 | J8: 4438191 | K8: 8715288 | L8: 71846516 | M8: 218975863 | N8: 1782187 | P8: 115805156 | R8: 26281370 | S8: 991547383
A9: Alemana Seguros | B9: ALEMANA | C9: 2684451 | E9: 3883836 | G9: 2966950 | K9: 19716 | N9: 520775 | R9: 117023 | S9: 10192751
A10: BCI Seguros Vida | B10: BCI | C10: 1907897 | D10: 5029276 | E10: 83456962 | F10: 51665 | G10: 73370309 | I10: 3483626 | J10: 351551 | K10: 20947199 | L10: 16333563 | M10: 10683740 | N10: 6384679 | P10: 33574586 | R10: 715550 | S10: 256290603
A11: BICE Vida | B11: BICE | C11: 12137315 | D11: 61639951 | E11: 591717146 | F11: 3817730 | G11: 2182826029 | H11: 91208362 | I11: 929632977 | J11: 4345899 | K11: 85013723 | L11: 113329624 | M11: 735358080 | N11: 3187738 | O11: 13268620 | P11: 940039046 | Q11: 62713259 | R11: 185427790 | S11: 6015663289
A12: BNP Paribas Cardif | B12: BNP | C12: 117346729 | D12: 1142766 | E12: 77756469 | F12: 7761 | G12: 67090409 | I12: 146476 | K12: 13046872 | N12: 720039 | P12: 2906737 | R12: 1874158 | S12: 282038416
A13: Bupa | B13: BUPA VIDA | C13: 5432259 | D13: 2712448 | E13: 3409162 | K13: 706581 | N13: 96535 | R13: 1378 | S13: 12358363
A14: Cámara | B14: CAMARA | C14: 1917877 | D14: 4303529 | E14: 39719543 | G14: 10410913 | K14: 2050588 | N14: 336872 | P14: 5899529 | R14: 758276 | S14: 65397127
A15: CF Seguros de Vida | B15: CF | C15: 19918429 | E15: 9251628 | K15: 1317655 | N15: 534474 | R15: 1000 | S15: 31023186
A16: Chubb Vida | B16: CHUBB VIDA | C16: 84644111 | D16: 992087 | E16: 68010433 | G16: 56421570 | N16: 4630447 | P16: 868398 | R16: 595950 | S16: 216162996
A17: CLC | B17: CLC | C17: 2486463 | E17: 6035349 | F17: 31414 | G17: 3602690 | N17: 8662115 | R17: 39260 | S17: 20857291
A18: CN Life | B18: CN LIFE | C18: 1408276 | D18: 448930 | E18: 30616374 | F18: 168190 | G18: 435658671 | H18: 33653608 | I18: 50585863 | J18: 11566724 | K18: 8600006 | L18: 33874856 | M18: 163521767 | N18: 1814550 | P18: 67570346 | R18: 47591053 | S18: 887079214
A19: Colmena Seguros | B19: COLMENA | C19: 3716859 | D19: 288699 | E19: 5332557 | F19: 26992 | G19: 2516498 | N19: 2731007 | R19: 21366 | S19: 14633978
A20: Confuturo | B20: CONFUTURO | C20: 105818557 | D20: 647742492 | E20: 1224321144 | F20: 36934859 | G20: 1686013509 | H20: 220319748 | I20: 334224276 | J20: 37880551 | K20: 5139193 | L20: 206178929 | M20: 1715610840 | N20: 3805236 | O20: 631185 | P20: 1764466216 | Q20: 52252786 | R20: 265883863 | S20: 8307223384
A21: Consorcio Nacional | B21: CONSORCIO NACIONAL | C21: 218593159 | D21: 54396609 | E21: 462643539 | F21: 8329874 | G21: 1921141244 | H21: 243155305 | I21: 722359050 | J21: 234382128 | K21: 693424202 | L21: 246157559 | M21: 1882261687 | N21: 6768447 | O21: 987328 | P21: 1477223099 | R21: 560746012 | S21: 8732569242
A22: Divina Pastora | B22: DIVINAPASTORA | C22: 1444877 | D22: 373659 | E22: 864983 | N22: 944584 | R22: 53472 | S22: 3681575
A23: EuroAmérica | B23: EUROAMERICA | C23: 79048716 | D23: 5383748 | E23: 10922222 | F23: 444803 | G23: 659543907 | H23: 38505635 | I23: 5361455 | J23: 34142566 | K23: 95571769 | L23: 76075309 | M23: 35542294 | N23: 10901782 | P23: 278544373 | Q23: 216303 | R23: 16826867 | S23: 1347031749
A24: Help Seguros | B24: HELP SEGUROS | C24: 2053658 | D24: 625620 | E24: 6761849 | G24: 3553824 | M24: 357891 | N24: 1363377 | R24: 193127 | S24: 14909346
A25: MAPFRE vida | B25: MAPFRE | C25: 987348 | E25: 12194121 | F25: 1806644 | G25: 27239497 | L25: 2027574 | N25: 297686 | P25: 1449789 | R25: 8971 | S25: 46011630
A26: METLIFE | B26: METLIFE | C26: 339529076 | D26: 19056030 | E26: 1024150452 | F26: 8701737 | G26: 2432799042 | H26: 260565394 | I26: 1761592930 | K26: 132839014 | L26: 161789737 | M26: 1727582310 | N26: 18664340 | O26: 4253319 | P26: 1511295251 | Q26: 70868801 | R26: 316302209 | S26: 9789989642
A27: MUT DE CARABINEROS | B27: MUT DE CARABINEROS | C27: 4724390 | D27: 125790444 | E27: 4539853 | G27: 105865 | K27: 16061413 | N27: 3763564 | P27: 143676944 | Q27: 90883244 | R27: 126453 | S27: 389672170
A28: MUT. EJERC. Y AVIAC. | B28: MUT. EJERC. Y AVIAC. | C28: 366738 | D28: 12075752 | E28: 40441141 | F28: 628501 | G28: 33690367 | J28: 1461796 | K28: 15123078 | L28: 1006264 | M28: 2605949 | N28: 431025 | P28: 4247993 | Q28: 118622964 | R28: 459059 | S28: 231160627
A29: MUTUAL DE SEGUROS | B29: MUTUAL DE SEGUROS | C29: 10316483 | D29: 332056 | E29: 53995678 | F29: 20868 | G29: 110608858 | I29: 52052840 | J29: 2343695 | K29: 11138989 | L29: 3369041 | M29: 5495017 | N29: 408492 | O29: 1617038 | P29: 125813655 | Q29: 12383234 | R29: 2705438 | S29: 392601382
A30: OHIO national | B30: OHIO | C30: 8867 | D30: 30817438 | E30: 228111639 | F30: 26296989 | G30: 402761770 | I30: 77269207 | K30: 36356286 | L30: 6709005 | M30: 64997854 | N30: 4751393 | O30: 1315729 | P30: 115064592 | Q30: 2453974 | R30: 3994505 | S30: 1000909248
A31: PENTA vida | B31: PENTA | C31: 185100203 | D31: 114425049 | E31: 599234400 | F31: 25058450 | G31: 1554046980 | H31: 199306464 | I31: 690331501 | J31: 51075930 | K31: 8724765 | L31: 735874488 | M31: 1244709800 | N31: 1634030 | P31: 1243438267 | Q31: 59312337 | R31: 396065536 | S31: 7108338200
A32: PRINCIPAL | B32: PRINCIPAL | C32: 48165826 | D32: 47124852 | E32: 645340792 | F32: 35150876 | G32: 979061861 | H32: 102059224 | I32: 840975325 | J32: 1344993 | K32: 176068978 | L32: 153374367 | M32: 644904302 | N32: 2560171 | P32: 558285816 | Q32: 12792765 | R32: 104843681 | S32: 4352053829
A33: RENTA NACIONAL | B33: RENTA NACIONAL | C33: 14118901 | D33: 31165700 | E33: 291085548 | F33: 11520225 | G33: 481589481 | I33: 70846185 | J33: 149020 | K33: 3001826 | L33: 937891 | N33: 2344101 | P33: 235049321 | Q33: 4104932 | R33: 2131273 | S33: 1148044404
A34: SAVE SEGUROS | B34: SAVE BCJ | C34: 274936 | D34: 3901157 | E34: 2365267 | F34: 174067 | G34: 21782017 | K34: 700411 | L34: 3634849 | N34: 1315433 | P34: 803864 | R34: 112020 | S34: 35064021
A35: SECURITY PREVISION | B35: SECURITY PREVISION | C35: 122344834 | D35: 2670596 | E35: 347125140 | F35: 24600215 | G35: 1003701414 | H35: 61189928 | I35: 388119617 | J35: 7901321 | K35: 236774249 | L35: 226551852 | M35: 483058557 | N35: 2005594 | O35: 269230 | P35: 374230466 | Q35: 9421419 | R35: 149525231 | S35: 3439489663
A36: SURA | B36: SURA | C36: 73278613 | D36: 8171762 | E36: 94979397 | F36: 293349 | G36: 146503014 | K36: 404583823 | L36: 24677989 | M36: 282939110 | N36: 647381 | O36: 2452060 | P36: 45625794 | R36: 1884444 | S36: 1086036736
A37: SURAMERICANA | B37: SURAMERICANA V | C37: 14031813 | E37: 22302075 | G37: 6430138 | N37: 1573762 | R37: 84583 | S37: 44422371
A38: ZURICH CHILE | B38: ZURICH CHILE V | C38: 147624514 | D38: 54583142 | E38: 241545410 | F38: 37104 | G38: 1307176455 | H38: 13878637 | I38: 318149742 | K38: 268579374 | L38: 24704054 | M38: 216464858 | N38: 4401720 | O38: 1456370 | P38: 600290974 | Q38: 832058 | R38: 45843029 | S38: 3245567441
A39: ZURICH SANTANDER | B39: ZURICH SANTANDER | C39: 13347677 | D39: 11770107 | E39: 5688098 | F39: 4308008 | G39: 74313203 | I39: 17512965 | K39: 6563507 | L39: 5404716 | M39: 7569691 | N39: 1127567 | P39: 23472877 | R39: 316821 | S39: 171395237
A40: TOTAL CIAS. DE SEGUROS DE VIDA | B40: TOTAL CIAS. DE SEGUROS DE VIDA
A41: CAJA REASEGURADORA | B41: CAJA REASEGURADORA
A42: TOTAL CIAS. REASEGURADORAS DE VIDA | B42: TOTAL CIAS. REASEGURADORAS DE VIDA
A43: TOTAL MERCADO | B43: TOTAL MERCADO
...
