{"text_format":"3","workbook":"xlsx","n_sheets":2,"sheets":["Inversiones","base"],"not_rendered":{"charts":1,"images":1,"defined_names":2},"read":"whole","date_system":"1900"}

{"sheet":"Inversiones","index":0,"n_rows":65,"n_cols":37,"rows_kept":65}
[]
[]
[{"$nulls":3},"Reporte de Inversiones - Compañías de Seguros Generales"]
[{"$nulls":3},"Datos a Diciembre de 2023"]
[]
[null,null,"Seleccionar Moneda"]
[{"$nulls":8},"Cifras en M$",1]
[null,null,"Cifras en UF",{"$nulls":4},{"$f":"Moneda","v":"Cifras en UF"},"Cifras en UF",{"$f":"1000/K8","v":{"v":0.027181772121069786,"d":"0.0271818"}},{"v":36789.36,"d":"36,789.36"}]
[{"$nulls":7},{"$f":"VLOOKUP(H8,I7:J9,2,0)","v":0.027181772121069786},"Cifras en US$",{"$f":"1000/K9","v":1.130467222102895},884.59]
[null,null,"Utilizar fila para revisar","ASSURANT Chile","AVLA crédito","BCI Seguros","BNP Paribas Cardiff","CESCE CHILE","CHUBB GENERALES","COFACE CHILE","CONSORCIO NACIONAL","CONTEMPORA","CONTINENTAL GENERALES","CREDITO CONTINENTAL","EVEREST","FID CHILE","HDI SEGUROS","KONSEGUR","LIBERTY SEGUROS","MUT DE CARABINEROS","MAPFRE","METLIFE GENERALES","ORION seguros","ORSAN","PORVENIR","REALE CHILE","RENTA NACIONAL","SOLUNION","SOUTHBRIDGE","STARR international","SURAMERICANA","UNNIO","ZENIT seguros","ZURICH CHILE","ZURICH SANTANDER"]
[null,null,"No borrar fila","ASSURANT Chile","AVLA crédito","BCI Seguros","BNP Paribas Cardiff","CESCE CHILE","CHUBB GENERALES","COFACE CHILE","CONSORCIO NACIONAL","CONTEMPORA","CONTINENTAL GENERALES","CREDITO CONTINENTAL","EVEREST","FID CHILE","HDI SEGUROS","KONSEGUR","LIBERTY SEGUROS","MUT DE CARABINEROS","MAPFRE","METLIFE GENERALES","ORION seguros","ORSAN","PORVENIR","REALE CHILE","RENTA NACIONAL","SOLUNION","SOUTHBRIDGE","STARR international","SURAMERICANA","UNNIO","ZENIT seguros","ZURICH CHILE","ZURICH SANTANDER"]
[null,null,"TIPO DE INSTRUMENTO","Assurant Chile","AVLA Crédito","BCI Seguros","BNP Paribas Cardif","Cesce Chile","Chubb Generales","Coface Chile","Consorcio Nacional","Contempora","Continental Crédito","Continental Generales","Everest Generales","FID Chile","HDI Seguros","Konsegur","Liberty Seguros","M. de Carabineros","Mapfre","MetLife Generales","Orion Seguros","Orsan Crédito","Porvenir","Reale Chile","Renta Nacional","Solunión Chile","Southbridge","Starr International","Suramericana","Unnio","Zenit Seguros","Zurich Chile","Zurich Santander"]
[3,"InstrumentosdelEstado","Instrumentos del Estado",{"$f":"VLOOKUP(D$11,base!$A$8:$R$46,$A13,FALSE)","v":2009088},{"$f":"VLOOKUP(E$11,base!$A$8:$R$46,$A13,FALSE)","v":3608677},{"$f":"VLOOKUP(F$11,base!$A$8:$R$46,$A13,FALSE)","v":15729621},{"$f":"VLOOKUP(G$11,base!$A$8:$R$46,$A13,FALSE)","v":59047460},{"$f":"VLOOKUP(H$11,base!$A$8:$R$46,$A13,FALSE)","v":1136496},{"$f":"VLOOKUP(I$11,base!$A$8:$R$46,$A13,FALSE)","v":64909526},{"$f":"VLOOKUP(J$11,base!$A$8:$R$46,$A13,FALSE)","v":17780023},{"$f":"VLOOKUP(K$11,base!$A$8:$R$46,$A13,FALSE)","v":0},{"$f":"VLOOKUP(L$11,base!$A$8:$R$46,$A13,FALSE)","v":728131},{"$f":"VLOOKUP(M$11,base!$A$8:$R$46,$A13,FALSE)","v":0},{"$f":"VLOOKUP(N$11,base!$A$8:$R$46,$A13,FALSE)","v":0},{"$f":"VLOOKUP(O$11,base!$A$8:$R$46,$A13,FALSE)","v":0},{"$f":"VLOOKUP(P$11,base!$A$8:$R$46,$A13,FALSE)","v":7927153},{"$f":"VLOOKUP(Q$11,base!$A$8:$R$46,$A13,FALSE)","v":43609614},{"$f":"VLOOKUP(R$11,base!$A$8:$R$46,$A13,FALSE)","v":0},{"$f":"VLOOKUP(S$11,base!$A$8:$R$46,$A13,FALSE)","v":61159563},{"$f":"VLOOKUP(T$11,base!$A$8:$R$46,$A13,FALSE)","v":4322358},{"$f":"VLOOKUP(U$11,base!$A$8:$R$46,$A13,FALSE)","v":217375},{"$f":"VLOOKUP(V$11,base!$A$8:$R$46,$A13,FALSE)","v":0},{"$f":"VLOOKUP(W$11,base!$A$8:$R$46,$A13,FALSE)","v":1656306},{"$f":"VLOOKUP(X$11,base!$A$8:$R$46,$A13,FALSE)","v":4453663},{"$f":"VLOOKUP(Y$11,base!$A$8:$R$46,$A13,FALSE)","v":3889309},{"$f":"VLOOKUP(Z$11,base!$A$8:$R$46,$A13,FALSE)","v":8060738},{"$f":"VLOOKUP(AA$11,base!$A$8:$R$46,$A13,FALSE)","v":5400999},{"$f":"VLOOKUP(AB$11,base!$A$8:$R$46,$A13,FALSE)","v":6915977},{"$f":"VLOOKUP(AC$11,base!$A$8:$R$46,$A13,FALSE)","v":26859019},{"$f":"VLOOKUP(AD$11,base!$A$8:$R$46,$A13,FALSE)","v":0},{"$f":"VLOOKUP(AE$11,base!$A$8:$R$46,$A13,FALSE)","v":33387047},{"$f":"VLOOKUP(AF$11,base!$A$8:$R$46,$A13,FALSE)","v":10615226},{"$f":"VLOOKUP(AG$11,base!$A$8:$R$46,$A13,FALSE)","v":569204},{"$f":"VLOOKUP(AH$11,base!$A$8:$R$46,$A13,FALSE)","v":15398171},{"$f":"VLOOKUP(AI$11,base!$A$8:$R$46,$A13,FALSE)","v":21513718}]
[4,"DepÃ³sitosaplazo","Depósitos a Plazo",{"$f":"VLOOKUP(D$11,base!$A$8:$R$46,$A14,FALSE)","v":5946918},{"$f":"VLOOKUP(E$11,base!$A$8:$R$46,$A14,FALSE)","v":375977},{"$f":"VLOOKUP(F$11,base!$A$8:$R$46,$A14,FALSE)","v":26351092},{"$f":"VLOOKUP(G$11,base!$A$8:$R$46,$A14,FALSE)","v":6053867},{"$f":"VLOOKUP(H$11,base!$A$8:$R$46,$A14,FALSE)","v":0},{"$f":"VLOOKUP(I$11,base!$A$8:$R$46,$A14,FALSE)","v":25761075},{"$f":"VLOOKUP(J$11,base!$A$8:$R$46,$A14,FALSE)","v":0},{"$f":"VLOOKUP(K$11,base!$A$8:$R$46,$A14,FALSE)","v":2847612},{"$f":"VLOOKUP(L$11,base!$A$8:$R$46,$A14,FALSE)","v":0},{"$f":"VLOOKUP(M$11,base!$A$8:$R$46,$A14,FALSE)","v":22522116},{"$f":"VLOOKUP(N$11,base!$A$8:$R$46,$A14,FALSE)","v":9643794},{"$f":"VLOOKUP(O$11,base!$A$8:$R$46,$A14,FALSE)","v":0},{"$f":"VLOOKUP(P$11,base!$A$8:$R$46,$A14,FALSE)","v":1040749},{"$f":"VLOOKUP(Q$11,base!$A$8:$R$46,$A14,FALSE)","v":3303685},{"$f":"VLOOKUP(R$11,base!$A$8:$R$46,$A14,FALSE)","v":0},{"$f":"VLOOKUP(S$11,base!$A$8:$R$46,$A14,FALSE)","v":14828856},{"$f":"VLOOKUP(T$11,base!$A$8:$R$46,$A14,FALSE)","v":13161292},{"$f":"VLOOKUP(U$11,base!$A$8:$R$46,$A14,FALSE)","v":1614051},{"$f":"VLOOKUP(V$11,base!$A$8:$R$46,$A14,FALSE)","v":0},{"$f":"VLOOKUP(W$11,base!$A$8:$R$46,$A14,FALSE)","v":1790548},{"$f":"VLOOKUP(X$11,base!$A$8:$R$46,$A14,FALSE)","v":56786},{"$f":"VLOOKUP(Y$11,base!$A$8:$R$46,$A14,FALSE)","v":2035777},{"$f":"VLOOKUP(Z$11,base!$A$8:$R$46,$A14,FALSE)","v":2001793},{"$f":"VLOOKUP(AA$11,base!$A$8:$R$46,$A14,FALSE)","v":547514},{"$f":"VLOOKUP(AB$11,base!$A$8:$R$46,$A14,FALSE)","v":0},{"$f":"VLOOKUP(AC$11,base!$A$8:$R$46,$A14,FALSE)","v":0},{"$f":"VLOOKUP(AD$11,base!$A$8:$R$46,$A14,FALSE)","v":0},{"$f":"VLOOKUP(AE$11,base!$A$8:$R$46,$A14,FALSE)","v":0},{"$f":"VLOOKUP(AF$11,base!$A$8:$R$46,$A14,FALSE)","v":0},{"$f":"VLOOKUP(AG$11,base!$A$8:$R$46,$A14,FALSE)","v":4879679},{"$f":"VLOOKUP(AH$11,base!$A$8:$R$46,$A14,FALSE)","v":2004898},{"$f":"VLOOKUP(AI$11,base!$A$8:$R$46,$A14,FALSE)","v":0}]
[5,"Bonosbancarios","Bonos Bancarios",{"$f":"VLOOKUP(D$11,base!$A$8:$R$46,$A15,FALSE)","v":0},{"$f":"VLOOKUP(E$11,base!$A$8:$R$46,$A15,FALSE)","v":1714523},{"$f":"VLOOKUP(F$11,base!$A$8:$R$46,$A15,FALSE)","v":177567785},{"$f":"VLOOKUP(G$11,base!$A$8:$R$46,$A15,FALSE)","v":63325957},{"$f":"VLOOKUP(H$11,base!$A$8:$R$46,$A15,FALSE)","v":676079},{"$f":"VLOOKUP(I$11,base!$A$8:$R$46,$A15,FALSE)","v":63780443},{"$f":"VLOOKUP(J$11,base!$A$8:$R$46,$A15,FALSE)","v":2401785},{"$f":"VLOOKUP(K$11,base!$A$8:$R$46,$A15,FALSE)","v":15126258},{"$f":"VLOOKUP(L$11,base!$A$8:$R$46,$A15,FALSE)","v":2252869},{"$f":"VLOOKUP(M$11,base!$A$8:$R$46,$A15,FALSE)","v":0},{"$f":"VLOOKUP(N$11,base!$A$8:$R$46,$A15,FALSE)","v":0},{"$f":"VLOOKUP(O$11,base!$A$8:$R$46,$A15,FALSE)","v":0},{"$f":"VLOOKUP(P$11,base!$A$8:$R$46,$A15,FALSE)","v":6632005},{"$f":"VLOOKUP(Q$11,base!$A$8:$R$46,$A15,FALSE)","v":152712019},{"$f":"VLOOKUP(R$11,base!$A$8:$R$46,$A15,FALSE)","v":0},{"$f":"VLOOKUP(S$11,base!$A$8:$R$46,$A15,FALSE)","v":111853403},{"$f":"VLOOKUP(T$11,base!$A$8:$R$46,$A15,FALSE)","v":0},{"$f":"VLOOKUP(U$11,base!$A$8:$R$46,$A15,FALSE)","v":46567715},{"$f":"VLOOKUP(V$11,base!$A$8:$R$46,$A15,FALSE)","v":1001645},{"$f":"VLOOKUP(W$11,base!$A$8:$R$46,$A15,FALSE)","v":12574616},{"$f":"VLOOKUP(X$11,base!$A$8:$R$46,$A15,FALSE)","v":9103196},{"$f":"VLOOKUP(Y$11,base!$A$8:$R$46,$A15,FALSE)","v":3028818},{"$f":"VLOOKUP(Z$11,base!$A$8:$R$46,$A15,FALSE)","v":3571829},{"$f":"VLOOKUP(AA$11,base!$A$8:$R$46,$A15,FALSE)","v":10684393},{"$f":"VLOOKUP(AB$11,base!$A$8:$R$46,$A15,FALSE)","v":1300259},{"$f":"VLOOKUP(AC$11,base!$A$8:$R$46,$A15,FALSE)","v":16848824},{"$f":"VLOOKUP(AD$11,base!$A$8:$R$46,$A15,FALSE)","v":0},{"$f":"VLOOKUP(AE$11,base!$A$8:$R$46,$A15,FALSE)","v":112401471},{"$f":"VLOOKUP(AF$11,base!$A$8:$R$46,$A15,FALSE)","v":0},{"$f":"VLOOKUP(AG$11,base!$A$8:$R$46,$A15,FALSE)","v":15390980},{"$f":"VLOOKUP(AH$11,base!$A$8:$R$46,$A15,FALSE)","v":14563600},{"$f":"VLOOKUP(AI$11,base!$A$8:$R$46,$A15,FALSE)","v":20341351}]
[6,"Letrashipotecarias","Letras Hipotecarias",{"$f":"VLOOKUP(D$11,base!$A$8:$R$46,$A16,FALSE)","v":0},{"$f":"VLOOKUP(E$11,base!$A$8:$R$46,$A16,FALSE)","v":0},{"$f":"VLOOKUP(F$11,base!$A$8:$R$46,$A16,FALSE)","v":0},{"$f":"VLOOKUP(G$11,base!$A$8:$R$46,$A16,FALSE)","v":4424},{"$f":"VLOOKUP(H$11,base!$A$8:$R$46,$A16,FALSE)","v":52476},{"$f":"VLOOKUP(I$11,base!$A$8:$R$46,$A16,FALSE)","v":0},{"$f":"VLOOKUP(J$11,base!$A$8:$R$46,$A16,FALSE)","v":0},{"$f":"VLOOKUP(K$11,base!$A$8:$R$46,$A16,FALSE)","v":756002},{"$f":"VLOOKUP(L$11,base!$A$8:$R$46,$A16,FALSE)","v":0},{"$f":"VLOOKUP(M$11,base!$A$8:$R$46,$A16,FALSE)","v":0},{"$f":"VLOOKUP(N$11,base!$A$8:$R$46,$A16,FALSE)","v":0},{"$f":"VLOOKUP(O$11,base!$A$8:$R$46,$A16,FALSE)","v":0},{"$f":"VLOOKUP(P$11,base!$A$8:$R$46,$A16,FALSE)","v":0},{"$f":"VLOOKUP(Q$11,base!$A$8:$R$46,$A16,FALSE)","v":95093},{"$f":"VLOOKUP(R$11,base!$A$8:$R$46,$A16,FALSE)","v":0},{"$f":"VLOOKUP(S$11,base!$A$8:$R$46,$A16,FALSE)","v":149098},{"$f":"VLOOKUP(T$11,base!$A$8:$R$46,$A16,FALSE)","v":0},{"$f":"VLOOKUP(U$11,base!$A$8:$R$46,$A16,FALSE)","v":0},{"$f":"VLOOKUP(V$11,base!$A$8:$R$46,$A16,FALSE)","v":0},{"$f":"VLOOKUP(W$11,base!$A$8:$R$46,$A16,FALSE)","v":0},{"$f":"VLOOKUP(X$11,base!$A$8:$R$46,$A16,FALSE)","v":0},{"$f":"VLOOKUP(Y$11,base!$A$8:$R$46,$A16,FALSE)","v":0},{"$f":"VLOOKUP(Z$11,base!$A$8:$R$46,$A16,FALSE)","v":0},{"$f":"VLOOKUP(AA$11,base!$A$8:$R$46,$A16,FALSE)","v":28072},{"$f":"VLOOKUP(AB$11,base!$A$8:$R$46,$A16,FALSE)","v":0},{"$f":"VLOOKUP(AC$11,base!$A$8:$R$46,$A16,FALSE)","v":0},{"$f":"VLOOKUP(AD$11,base!$A$8:$R$46,$A16,FALSE)","v":0},{"$f":"VLOOKUP(AE$11,base!$A$8:$R$46,$A16,FALSE)","v":0},{"$f":"VLOOKUP(AF$11,base!$A$8:$R$46,$A16,FALSE)","v":0},{"$f":"VLOOKUP(AG$11,base!$A$8:$R$46,$A16,FALSE)","v":0},{"$f":"VLOOKUP(AH$11,base!$A$8:$R$46,$A16,FALSE)","v":0},{"$f":"VLOOKUP(AI$11,base!$A$8:$R$46,$A16,FALSE)","v":106831}]
[7,"Bonosydebentures","Bonos y Debentures",{"$f":"VLOOKUP(D$11,base!$A$8:$R$46,$A17,FALSE)","v":0},{"$f":"VLOOKUP(E$11,base!$A$8:$R$46,$A17,FALSE)","v":1439025},{"$f":"VLOOKUP(F$11,base!$A$8:$R$46,$A17,FALSE)","v":18454075},{"$f":"VLOOKUP(G$11,base!$A$8:$R$46,$A17,FALSE)","v":46391105},{"$f":"VLOOKUP(H$11,base!$A$8:$R$46,$A17,FALSE)","v":663245},{"$f":"VLOOKUP(I$11,base!$A$8:$R$46,$A17,FALSE)","v":38797608},{"$f":"VLOOKUP(J$11,base!$A$8:$R$46,$A17,FALSE)","v":527801},{"$f":"VLOOKUP(K$11,base!$A$8:$R$46,$A17,FALSE)","v":23839435},{"$f":"VLOOKUP(L$11,base!$A$8:$R$46,$A17,FALSE)","v":1227798},{"$f":"VLOOKUP(M$11,base!$A$8:$R$46,$A17,FALSE)","v":0},{"$f":"VLOOKUP(N$11,base!$A$8:$R$46,$A17,FALSE)","v":0},{"$f":"VLOOKUP(O$11,base!$A$8:$R$46,$A17,FALSE)","v":0},{"$f":"VLOOKUP(P$11,base!$A$8:$R$46,$A17,FALSE)","v":2736819},{"$f":"VLOOKUP(Q$11,base!$A$8:$R$46,$A17,FALSE)","v":56435419},{"$f":"VLOOKUP(R$11,base!$A$8:$R$46,$A17,FALSE)","v":0},{"$f":"VLOOKUP(S$11,base!$A$8:$R$46,$A17,FALSE)","v":11203560},{"$f":"VLOOKUP(T$11,base!$A$8:$R$46,$A17,FALSE)","v":0},{"$f":"VLOOKUP(U$11,base!$A$8:$R$46,$A17,FALSE)","v":16524469},{"$f":"VLOOKUP(V$11,base!$A$8:$R$46,$A17,FALSE)","v":663018},{"$f":"VLOOKUP(W$11,base!$A$8:$R$46,$A17,FALSE)","v":6488407},{"$f":"VLOOKUP(X$11,base!$A$8:$R$46,$A17,FALSE)","v":1484061},{"$f":"VLOOKUP(Y$11,base!$A$8:$R$46,$A17,FALSE)","v":2905075},{"$f":"VLOOKUP(Z$11,base!$A$8:$R$46,$A17,FALSE)","v":0},{"$f":"VLOOKUP(AA$11,base!$A$8:$R$46,$A17,FALSE)","v":12613122},{"$f":"VLOOKUP(AB$11,base!$A$8:$R$46,$A17,FALSE)","v":0},{"$f":"VLOOKUP(AC$11,base!$A$8:$R$46,$A17,FALSE)","v":31848201},{"$f":"VLOOKUP(AD$11,base!$A$8:$R$46,$A17,FALSE)","v":0},{"$f":"VLOOKUP(AE$11,base!$A$8:$R$46,$A17,FALSE)","v":28675822},{"$f":"VLOOKUP(AF$11,base!$A$8:$R$46,$A17,FALSE)","v":0},{"$f":"VLOOKUP(AG$11,base!$A$8:$R$46,$A17,FALSE)","v":617313},{"$f":"VLOOKUP(AH$11,base!$A$8:$R$46,$A17,FALSE)","v":42160806},{"$f":"VLOOKUP(AI$11,base!$A$8:$R$46,$A17,FALSE)","v":55022315}]
[8,"CrÃ©ditossindicados","Créditos Sindicados",{"$f":"VLOOKUP(D$11,base!$A$8:$R$46,$A18,FALSE)","v":0},{"$f":"VLOOKUP(E$11,base!$A$8:$R$46,$A18,FALSE)","v":0},{"$f":"VLOOKUP(F$11,base!$A$8:$R$46,$A18,FALSE)","v":0},{"$f":"VLOOKUP(G$11,base!$A$8:$R$46,$A18,FALSE)","v":0},{"$f":"VLOOKUP(H$11,base!$A$8:$R$46,$A18,FALSE)","v":0},{"$f":"VLOOKUP(I$11,base!$A$8:$R$46,$A18,FALSE)","v":0},{"$f":"VLOOKUP(J$11,base!$A$8:$R$46,$A18,FALSE)","v":0},{"$f":"VLOOKUP(K$11,base!$A$8:$R$46,$A18,FALSE)","v":0},{"$f":"VLOOKUP(L$11,base!$A$8:$R$46,$A18,FALSE)","v":0},{"$f":"VLOOKUP(M$11,base!$A$8:$R$46,$A18,FALSE)","v":0},{"$f":"VLOOKUP(N$11,base!$A$8:$R$46,$A18,FALSE)","v":0},{"$f":"VLOOKUP(O$11,base!$A$8:$R$46,$A18,FALSE)","v":0},{"$f":"VLOOKUP(P$11,base!$A$8:$R$46,$A18,FALSE)","v":0},{"$f":"VLOOKUP(Q$11,base!$A$8:$R$46,$A18,FALSE)","v":0},{"$f":"VLOOKUP(R$11,base!$A$8:$R$46,$A18,FALSE)","v":0},{"$f":"VLOOKUP(S$11,base!$A$8:$R$46,$A18,FALSE)","v":0},{"$f":"VLOOKUP(T$11,base!$A$8:$R$46,$A18,FALSE)","v":0},{"$f":"VLOOKUP(U$11,base!$A$8:$R$46,$A18,FALSE)","v":0},{"$f":"VLOOKUP(V$11,base!$A$8:$R$46,$A18,FALSE)","v":0},{"$f":"VLOOKUP(W$11,base!$A$8:$R$46,$A18,FALSE)","v":0},{"$f":"VLOOKUP(X$11,base!$A$8:$R$46,$A18,FALSE)","v":0},{"$f":"VLOOKUP(Y$11,base!$A$8:$R$46,$A18,FALSE)","v":0},{"$f":"VLOOKUP(Z$11,base!$A$8:$R$46,$A18,FALSE)","v":0},{"$f":"VLOOKUP(AA$11,base!$A$8:$R$46,$A18,FALSE)","v":0},{"$f":"VLOOKUP(AB$11,base!$A$8:$R$46,$A18,FALSE)","v":0},{"$f":"VLOOKUP(AC$11,base!$A$8:$R$46,$A18,FALSE)","v":0},{"$f":"VLOOKUP(AD$11,base!$A$8:$R$46,$A18,FALSE)","v":0},{"$f":"VLOOKUP(AE$11,base!$A$8:$R$46,$A18,FALSE)","v":0},{"$f":"VLOOKUP(AF$11,base!$A$8:$R$46,$A18,FALSE)","v":0},{"$f":"VLOOKUP(AG$11,base!$A$8:$R$46,$A18,FALSE)","v":0},{"$f":"VLOOKUP(AH$11,base!$A$8:$R$46,$A18,FALSE)","v":0},{"$f":"VLOOKUP(AI$11,base!$A$8:$R$46,$A18,FALSE)","v":0}]
[9,"Mutuoshipotecarios","Mutuos Hipotecarios",{"$f":"VLOOKUP(D$11,base!$A$8:$R$46,$A19,FALSE)","v":0},{"$f":"VLOOKUP(E$11,base!$A$8:$R$46,$A19,FALSE)","v":3446574},{"$f":"VLOOKUP(F$11,base!$A$8:$R$46,$A19,FALSE)","v":0},{"$f":"VLOOKUP(G$11,base!$A$8:$R$46,$A19,FALSE)","v":71547},{"$f":"VLOOKUP(H$11,base!$A$8:$R$46,$A19,FALSE)","v":0},{"$f":"VLOOKUP(I$11,base!$A$8:$R$46,$A19,FALSE)","v":0},{"$f":"VLOOKUP(J$11,base!$A$8:$R$46,$A19,FALSE)","v":0},{"$f":"VLOOKUP(K$11,base!$A$8:$R$46,$A19,FALSE)","v":0},{"$f":"VLOOKUP(L$11,base!$A$8:$R$46,$A19,FALSE)","v":0},{"$f":"VLOOKUP(M$11,base!$A$8:$R$46,$A19,FALSE)","v":0},{"$f":"VLOOKUP(N$11,base!$A$8:$R$46,$A19,FALSE)","v":0},{"$f":"VLOOKUP(O$11,base!$A$8:$R$46,$A19,FALSE)","v":0},{"$f":"VLOOKUP(P$11,base!$A$8:$R$46,$A19,FALSE)","v":0},{"$f":"VLOOKUP(Q$11,base!$A$8:$R$46,$A19,FALSE)","v":0},{"$f":"VLOOKUP(R$11,base!$A$8:$R$46,$A19,FALSE)","v":0},{"$f":"VLOOKUP(S$11,base!$A$8:$R$46,$A19,FALSE)","v":0},{"$f":"VLOOKUP(T$11,base!$A$8:$R$46,$A19,FALSE)","v":0},{"$f":"VLOOKUP(U$11,base!$A$8:$R$46,$A19,FALSE)","v":0},{"$f":"VLOOKUP(V$11,base!$A$8:$R$46,$A19,FALSE)","v":0},{"$f":"VLOOKUP(W$11,base!$A$8:$R$46,$A19,FALSE)","v":0},{"$f":"VLOOKUP(X$11,base!$A$8:$R$46,$A19,FALSE)","v":0},{"$f":"VLOOKUP(Y$11,base!$A$8:$R$46,$A19,FALSE)","v":0},{"$f":"VLOOKUP(Z$11,base!$A$8:$R$46,$A19,FALSE)","v":0},{"$f":"VLOOKUP(AA$11,base!$A$8:$R$46,$A19,FALSE)","v":0},{"$f":"VLOOKUP(AB$11,base!$A$8:$R$46,$A19,FALSE)","v":0},{"$f":"VLOOKUP(AC$11,base!$A$8:$R$46,$A19,FALSE)","v":962809},{"$f":"VLOOKUP(AD$11,base!$A$8:$R$46,$A19,FALSE)","v":0},{"$f":"VLOOKUP(AE$11,base!$A$8:$R$46,$A19,FALSE)","v":0},{"$f":"VLOOKUP(AF$11,base!$A$8:$R$46,$A19,FALSE)","v":0},{"$f":"VLOOKUP(AG$11,base!$A$8:$R$46,$A19,FALSE)","v":0},{"$f":"VLOOKUP(AH$11,base!$A$8:$R$46,$A19,FALSE)","v":5913685},{"$f":"VLOOKUP(AI$11,base!$A$8:$R$46,$A19,FALSE)","v":10004783}]
[10,"AccionesdeS.A.","Acciones de S.A.",{"$f":"VLOOKUP(D$11,base!$A$8:$R$46,$A20,FALSE)","v":0},{"$f":"VLOOKUP(E$11,base!$A$8:$R$46,$A20,FALSE)","v":0},{"$f":"VLOOKUP(F$11,base!$A$8:$R$46,$A20,FALSE)","v":325023},{"$f":"VLOOKUP(G$11,base!$A$8:$R$46,$A20,FALSE)","v":0},{"$f":"VLOOKUP(H$11,base!$A$8:$R$46,$A20,FALSE)","v":0},{"$f":"VLOOKUP(I$11,base!$A$8:$R$46,$A20,FALSE)","v":0},{"$f":"VLOOKUP(J$11,base!$A$8:$R$46,$A20,FALSE)","v":0},{"$f":"VLOOKUP(K$11,base!$A$8:$R$46,$A20,FALSE)","v":0},{"$f":"VLOOKUP(L$11,base!$A$8:$R$46,$A20,FALSE)","v":0},{"$f":"VLOOKUP(M$11,base!$A$8:$R$46,$A20,FALSE)","v":0},{"$f":"VLOOKUP(N$11,base!$A$8:$R$46,$A20,FALSE)","v":465732},{"$f":"VLOOKUP(O$11,base!$A$8:$R$46,$A20,FALSE)","v":0},{"$f":"VLOOKUP(P$11,base!$A$8:$R$46,$A20,FALSE)","v":0},{"$f":"VLOOKUP(Q$11,base!$A$8:$R$46,$A20,FALSE)","v":0},{"$f":"VLOOKUP(R$11,base!$A$8:$R$46,$A20,FALSE)","v":0},{"$f":"VLOOKUP(S$11,base!$A$8:$R$46,$A20,FALSE)","v":0},{"$f":"VLOOKUP(T$11,base!$A$8:$R$46,$A20,FALSE)","v":0},{"$f":"VLOOKUP(U$11,base!$A$8:$R$46,$A20,FALSE)","v":10569},{"$f":"VLOOKUP(V$11,base!$A$8:$R$46,$A20,FALSE)","v":0},{"$f":"VLOOKUP(W$11,base!$A$8:$R$46,$A20,FALSE)","v":0},{"$f":"VLOOKUP(X$11,base!$A$8:$R$46,$A20,FALSE)","v":585810},{"$f":"VLOOKUP(Y$11,base!$A$8:$R$46,$A20,FALSE)","v":0},{"$f":"VLOOKUP(Z$11,base!$A$8:$R$46,$A20,FALSE)","v":0},{"$f":"VLOOKUP(AA$11,base!$A$8:$R$46,$A20,FALSE)","v":0},{"$f":"VLOOKUP(AB$11,base!$A$8:$R$46,$A20,FALSE)","v":0},{"$f":"VLOOKUP(AC$11,base!$A$8:$R$46,$A20,FALSE)","v":22448568},{"$f":"VLOOKUP(AD$11,base!$A$8:$R$46,$A20,FALSE)","v":0},{"$f":"VLOOKUP(AE$11,base!$A$8:$R$46,$A20,FALSE)","v":0},{"$f":"VLOOKUP(AF$11,base!$A$8:$R$46,$A20,FALSE)","v":0},{"$f":"VLOOKUP(AG$11,base!$A$8:$R$46,$A20,FALSE)","v":0},{"$f":"VLOOKUP(AH$11,base!$A$8:$R$46,$A20,FALSE)","v":297},{"$f":"VLOOKUP(AI$11,base!$A$8:$R$46,$A20,FALSE)","v":0}]
[11,"Fondosmutuos","Fondos Mutuos",{"$f":"VLOOKUP(D$11,base!$A$8:$R$46,$A21,FALSE)","v":0},{"$f":"VLOOKUP(E$11,base!$A$8:$R$46,$A21,FALSE)","v":0},{"$f":"VLOOKUP(F$11,base!$A$8:$R$46,$A21,FALSE)","v":10342575},{"$f":"VLOOKUP(G$11,base!$A$8:$R$46,$A21,FALSE)","v":6265126},{"$f":"VLOOKUP(H$11,base!$A$8:$R$46,$A21,FALSE)","v":0},{"$f":"VLOOKUP(I$11,base!$A$8:$R$46,$A21,FALSE)","v":0},{"$f":"VLOOKUP(J$11,base!$A$8:$R$46,$A21,FALSE)","v":56219},{"$f":"VLOOKUP(K$11,base!$A$8:$R$46,$A21,FALSE)","v":1350998},{"$f":"VLOOKUP(L$11,base!$A$8:$R$46,$A21,FALSE)","v":0},{"$f":"VLOOKUP(M$11,base!$A$8:$R$46,$A21,FALSE)","v":0},{"$f":"VLOOKUP(N$11,base!$A$8:$R$46,$A21,FALSE)","v":0},{"$f":"VLOOKUP(O$11,base!$A$8:$R$46,$A21,FALSE)","v":0},{"$f":"VLOOKUP(P$11,base!$A$8:$R$46,$A21,FALSE)","v":0},{"$f":"VLOOKUP(Q$11,base!$A$8:$R$46,$A21,FALSE)","v":0},{"$f":"VLOOKUP(R$11,base!$A$8:$R$46,$A21,FALSE)","v":0},{"$f":"VLOOKUP(S$11,base!$A$8:$R$46,$A21,FALSE)","v":0},{"$f":"VLOOKUP(T$11,base!$A$8:$R$46,$A21,FALSE)","v":1463029},{"$f":"VLOOKUP(U$11,base!$A$8:$R$46,$A21,FALSE)","v":10178936},{"$f":"VLOOKUP(V$11,base!$A$8:$R$46,$A21,FALSE)","v":1013144},{"$f":"VLOOKUP(W$11,base!$A$8:$R$46,$A21,FALSE)","v":1985067},{"$f":"VLOOKUP(X$11,base!$A$8:$R$46,$A21,FALSE)","v":1055},{"$f":"VLOOKUP(Y$11,base!$A$8:$R$46,$A21,FALSE)","v":20874},{"$f":"VLOOKUP(Z$11,base!$A$8:$R$46,$A21,FALSE)","v":7537585},{"$f":"VLOOKUP(AA$11,base!$A$8:$R$46,$A21,FALSE)","v":8520815},{"$f":"VLOOKUP(AB$11,base!$A$8:$R$46,$A21,FALSE)","v":68298},{"$f":"VLOOKUP(AC$11,base!$A$8:$R$46,$A21,FALSE)","v":8112525},{"$f":"VLOOKUP(AD$11,base!$A$8:$R$46,$A21,FALSE)","v":1858039},{"$f":"VLOOKUP(AE$11,base!$A$8:$R$46,$A21,FALSE)","v":0},{"$f":"VLOOKUP(AF$11,base!$A$8:$R$46,$A21,FALSE)","v":3006},{"$f":"VLOOKUP(AG$11,base!$A$8:$R$46,$A21,FALSE)","v":4588706},{"$f":"VLOOKUP(AH$11,base!$A$8:$R$46,$A21,FALSE)","v":0},{"$f":"VLOOKUP(AI$11,base!$A$8:$R$46,$A21,FALSE)","v":372064}]
[12,"FondoinversiÃ³n","Fondos de Inversión",{"$f":"VLOOKUP(D$11,base!$A$8:$R$46,$A22,FALSE)","v":0},{"$f":"VLOOKUP(E$11,base!$A$8:$R$46,$A22,FALSE)","v":1060012},{"$f":"VLOOKUP(F$11,base!$A$8:$R$46,$A22,FALSE)","v":29265700},{"$f":"VLOOKUP(G$11,base!$A$8:$R$46,$A22,FALSE)","v":0},{"$f":"VLOOKUP(H$11,base!$A$8:$R$46,$A22,FALSE)","v":0},{"$f":"VLOOKUP(I$11,base!$A$8:$R$46,$A22,FALSE)","v":0},{"$f":"VLOOKUP(J$11,base!$A$8:$R$46,$A22,FALSE)","v":0},{"$f":"VLOOKUP(K$11,base!$A$8:$R$46,$A22,FALSE)","v":0},{"$f":"VLOOKUP(L$11,base!$A$8:$R$46,$A22,FALSE)","v":0},{"$f":"VLOOKUP(M$11,base!$A$8:$R$46,$A22,FALSE)","v":0},{"$f":"VLOOKUP(N$11,base!$A$8:$R$46,$A22,FALSE)","v":0},{"$f":"VLOOKUP(O$11,base!$A$8:$R$46,$A22,FALSE)","v":0},{"$f":"VLOOKUP(P$11,base!$A$8:$R$46,$A22,FALSE)","v":0},{"$f":"VLOOKUP(Q$11,base!$A$8:$R$46,$A22,FALSE)","v":0},{"$f":"VLOOKUP(R$11,base!$A$8:$R$46,$A22,FALSE)","v":0},{"$f":"VLOOKUP(S$11,base!$A$8:$R$46,$A22,FALSE)","v":0},{"$f":"VLOOKUP(T$11,base!$A$8:$R$46,$A22,FALSE)","v":0},{"$f":"VLOOKUP(U$11,base!$A$8:$R$46,$A22,FALSE)","v":7678423},{"$f":"VLOOKUP(V$11,base!$A$8:$R$46,$A22,FALSE)","v":0},{"$f":"VLOOKUP(W$11,base!$A$8:$R$46,$A22,FALSE)","v":0},{"$f":"VLOOKUP(X$11,base!$A$8:$R$46,$A22,FALSE)","v":586568},{"$f":"VLOOKUP(Y$11,base!$A$8:$R$46,$A22,FALSE)","v":0},{"$f":"VLOOKUP(Z$11,base!$A$8:$R$46,$A22,FALSE)","v":0},{"$f":"VLOOKUP(AA$11,base!$A$8:$R$46,$A22,FALSE)","v":0},{"$f":"VLOOKUP(AB$11,base!$A$8:$R$46,$A22,FALSE)","v":0},{"$f":"VLOOKUP(AC$11,base!$A$8:$R$46,$A22,FALSE)","v":0},{"$f":"VLOOKUP(AD$11,base!$A$8:$R$46,$A22,FALSE)","v":0},{"$f":"VLOOKUP(AE$11,base!$A$8:$R$46,$A22,FALSE)","v":4988441},{"$f":"VLOOKUP(AF$11,base!$A$8:$R$46,$A22,FALSE)","v":0},{"$f":"VLOOKUP(AG$11,base!$A$8:$R$46,$A22,FALSE)","v":0},{"$f":"VLOOKUP(AH$11,base!$A$8:$R$46,$A22,FALSE)","v":2026602},{"$f":"VLOOKUP(AI$11,base!$A$8:$R$46,$A22,FALSE)","v":3139930}]
[13,"InversiÃ³nexterior","Inversión Exterior",{"$f":"VLOOKUP(D$11,base!$A$8:$R$46,$A23,FALSE)","v":0},{"$f":"VLOOKUP(E$11,base!$A$8:$R$46,$A23,FALSE)","v":1707087},{"$f":"VLOOKUP(F$11,base!$A$8:$R$46,$A23,FALSE)","v":46223396},{"$f":"VLOOKUP(G$11,base!$A$8:$R$46,$A23,FALSE)","v":0},{"$f":"VLOOKUP(H$11,base!$A$8:$R$46,$A23,FALSE)","v":0},{"$f":"VLOOKUP(I$11,base!$A$8:$R$46,$A23,FALSE)","v":0},{"$f":"VLOOKUP(J$11,base!$A$8:$R$46,$A23,FALSE)","v":0},{"$f":"VLOOKUP(K$11,base!$A$8:$R$46,$A23,FALSE)","v":2345686},{"$f":"VLOOKUP(L$11,base!$A$8:$R$46,$A23,FALSE)","v":0},{"$f":"VLOOKUP(M$11,base!$A$8:$R$46,$A23,FALSE)","v":0},{"$f":"VLOOKUP(N$11,base!$A$8:$R$46,$A23,FALSE)","v":41700429},{"$f":"VLOOKUP(O$11,base!$A$8:$R$46,$A23,FALSE)","v":0},{"$f":"VLOOKUP(P$11,base!$A$8:$R$46,$A23,FALSE)","v":0},{"$f":"VLOOKUP(Q$11,base!$A$8:$R$46,$A23,FALSE)","v":0},{"$f":"VLOOKUP(R$11,base!$A$8:$R$46,$A23,FALSE)","v":0},{"$f":"VLOOKUP(S$11,base!$A$8:$R$46,$A23,FALSE)","v":0},{"$f":"VLOOKUP(T$11,base!$A$8:$R$46,$A23,FALSE)","v":0},{"$f":"VLOOKUP(U$11,base!$A$8:$R$46,$A23,FALSE)","v":0},{"$f":"VLOOKUP(V$11,base!$A$8:$R$46,$A23,FALSE)","v":0},{"$f":"VLOOKUP(W$11,base!$A$8:$R$46,$A23,FALSE)","v":0},{"$f":"VLOOKUP(X$11,base!$A$8:$R$46,$A23,FALSE)","v":408004},{"$f":"VLOOKUP(Y$11,base!$A$8:$R$46,$A23,FALSE)","v":0},{"$f":"VLOOKUP(Z$11,base!$A$8:$R$46,$A23,FALSE)","v":0},{"$f":"VLOOKUP(AA$11,base!$A$8:$R$46,$A23,FALSE)","v":0},{"$f":"VLOOKUP(AB$11,base!$A$8:$R$46,$A23,FALSE)","v":0},{"$f":"VLOOKUP(AC$11,base!$A$8:$R$46,$A23,FALSE)","v":0},{"$f":"VLOOKUP(AD$11,base!$A$8:$R$46,$A23,FALSE)","v":0},{"$f":"VLOOKUP(AE$11,base!$A$8:$R$46,$A23,FALSE)","v":0},{"$f":"VLOOKUP(AF$11,base!$A$8:$R$46,$A23,FALSE)","v":0},{"$f":"VLOOKUP(AG$11,base!$A$8:$R$46,$A23,FALSE)","v":0},{"$f":"VLOOKUP(AH$11,base!$A$8:$R$46,$A23,FALSE)","v":4718115},{"$f":"VLOOKUP(AI$11,base!$A$8:$R$46,$A23,FALSE)","v":4340566}]
[14,"Cuentascorrientes","Cuentas Corrientes",{"$f":"VLOOKUP(D$11,base!$A$8:$R$46,$A24,FALSE)","v":2994130},{"$f":"VLOOKUP(E$11,base!$A$8:$R$46,$A24,FALSE)","v":3871053},{"$f":"VLOOKUP(F$11,base!$A$8:$R$46,$A24,FALSE)","v":17074000},{"$f":"VLOOKUP(G$11,base!$A$8:$R$46,$A24,FALSE)","v":1642345},{"$f":"VLOOKUP(H$11,base!$A$8:$R$46,$A24,FALSE)","v":7021775},{"$f":"VLOOKUP(I$11,base!$A$8:$R$46,$A24,FALSE)","v":20717440},{"$f":"VLOOKUP(J$11,base!$A$8:$R$46,$A24,FALSE)","v":739674},{"$f":"VLOOKUP(K$11,base!$A$8:$R$46,$A24,FALSE)","v":2694634},{"$f":"VLOOKUP(L$11,base!$A$8:$R$46,$A24,FALSE)","v":844397},{"$f":"VLOOKUP(M$11,base!$A$8:$R$46,$A24,FALSE)","v":7130829},{"$f":"VLOOKUP(N$11,base!$A$8:$R$46,$A24,FALSE)","v":5211447},{"$f":"VLOOKUP(O$11,base!$A$8:$R$46,$A24,FALSE)","v":47527213},{"$f":"VLOOKUP(P$11,base!$A$8:$R$46,$A24,FALSE)","v":4148574},{"$f":"VLOOKUP(Q$11,base!$A$8:$R$46,$A24,FALSE)","v":39719977},{"$f":"VLOOKUP(R$11,base!$A$8:$R$46,$A24,FALSE)","v":3101009},{"$f":"VLOOKUP(S$11,base!$A$8:$R$46,$A24,FALSE)","v":34665202},{"$f":"VLOOKUP(T$11,base!$A$8:$R$46,$A24,FALSE)","v":18653},{"$f":"VLOOKUP(U$11,base!$A$8:$R$46,$A24,FALSE)","v":21431204},{"$f":"VLOOKUP(V$11,base!$A$8:$R$46,$A24,FALSE)","v":7089008},{"$f":"VLOOKUP(W$11,base!$A$8:$R$46,$A24,FALSE)","v":1730335},{"$f":"VLOOKUP(X$11,base!$A$8:$R$46,$A24,FALSE)","v":48316},{"$f":"VLOOKUP(Y$11,base!$A$8:$R$46,$A24,FALSE)","v":4025369},{"$f":"VLOOKUP(Z$11,base!$A$8:$R$46,$A24,FALSE)","v":18055040},{"$f":"VLOOKUP(AA$11,base!$A$8:$R$46,$A24,FALSE)","v":6049996},{"$f":"VLOOKUP(AB$11,base!$A$8:$R$46,$A24,FALSE)","v":138378},{"$f":"VLOOKUP(AC$11,base!$A$8:$R$46,$A24,FALSE)","v":7003924},{"$f":"VLOOKUP(AD$11,base!$A$8:$R$46,$A24,FALSE)","v":21852896},{"$f":"VLOOKUP(AE$11,base!$A$8:$R$46,$A24,FALSE)","v":17513986},{"$f":"VLOOKUP(AF$11,base!$A$8:$R$46,$A24,FALSE)","v":3774253},{"$f":"VLOOKUP(AG$11,base!$A$8:$R$46,$A24,FALSE)","v":2000792},{"$f":"VLOOKUP(AH$11,base!$A$8:$R$46,$A24,FALSE)","v":30866668},{"$f":"VLOOKUP(AI$11,base!$A$8:$R$46,$A24,FALSE)","v":982386}]
[15,"Inversionesinmobiliarias","Inversiones Inmobiliarias",{"$f":"VLOOKUP(D$11,base!$A$8:$R$46,$A25,FALSE)","v":0},{"$f":"VLOOKUP(E$11,base!$A$8:$R$46,$A25,FALSE)","v":2912678},{"$f":"VLOOKUP(F$11,base!$A$8:$R$46,$A25,FALSE)","v":30617405},{"$f":"VLOOKUP(G$11,base!$A$8:$R$46,$A25,FALSE)","v":8274136},{"$f":"VLOOKUP(H$11,base!$A$8:$R$46,$A25,FALSE)","v":531949},{"$f":"VLOOKUP(I$11,base!$A$8:$R$46,$A25,FALSE)","v":1606320},{"$f":"VLOOKUP(J$11,base!$A$8:$R$46,$A25,FALSE)","v":0},{"$f":"VLOOKUP(K$11,base!$A$8:$R$46,$A25,FALSE)","v":4435340},{"$f":"VLOOKUP(L$11,base!$A$8:$R$46,$A25,FALSE)","v":0},{"$f":"VLOOKUP(M$11,base!$A$8:$R$46,$A25,FALSE)","v":1076677},{"$f":"VLOOKUP(N$11,base!$A$8:$R$46,$A25,FALSE)","v":5584028},{"$f":"VLOOKUP(O$11,base!$A$8:$R$46,$A25,FALSE)","v":0},{"$f":"VLOOKUP(P$11,base!$A$8:$R$46,$A25,FALSE)","v":0},{"$f":"VLOOKUP(Q$11,base!$A$8:$R$46,$A25,FALSE)","v":7149879},{"$f":"VLOOKUP(R$11,base!$A$8:$R$46,$A25,FALSE)","v":1146979},{"$f":"VLOOKUP(S$11,base!$A$8:$R$46,$A25,FALSE)","v":8253800},{"$f":"VLOOKUP(T$11,base!$A$8:$R$46,$A25,FALSE)","v":989200},{"$f":"VLOOKUP(U$11,base!$A$8:$R$46,$A25,FALSE)","v":1294600},{"$f":"VLOOKUP(V$11,base!$A$8:$R$46,$A25,FALSE)","v":0},{"$f":"VLOOKUP(W$11,base!$A$8:$R$46,$A25,FALSE)","v":0},{"$f":"VLOOKUP(X$11,base!$A$8:$R$46,$A25,FALSE)","v":0},{"$f":"VLOOKUP(Y$11,base!$A$8:$R$46,$A25,FALSE)","v":0},{"$f":"VLOOKUP(Z$11,base!$A$8:$R$46,$A25,FALSE)","v":0},{"$f":"VLOOKUP(AA$11,base!$A$8:$R$46,$A25,FALSE)","v":2380761},{"$f":"VLOOKUP(AB$11,base!$A$8:$R$46,$A25,FALSE)","v":0},{"$f":"VLOOKUP(AC$11,base!$A$8:$R$46,$A25,FALSE)","v":962657},{"$f":"VLOOKUP(AD$11,base!$A$8:$R$46,$A25,FALSE)","v":0},{"$f":"VLOOKUP(AE$11,base!$A$8:$R$46,$A25,FALSE)","v":5588907},{"$f":"VLOOKUP(AF$11,base!$A$8:$R$46,$A25,FALSE)","v":0},{"$f":"VLOOKUP(AG$11,base!$A$8:$R$46,$A25,FALSE)","v":0},{"$f":"VLOOKUP(AH$11,base!$A$8:$R$46,$A25,FALSE)","v":0},{"$f":"VLOOKUP(AI$11,base!$A$8:$R$46,$A25,FALSE)","v":2061568}]
[16,"PrÃ©stamos","Préstamos",{"$f":"VLOOKUP(D$11,base!$A$8:$R$46,$A26,FALSE)","v":0},{"$f":"VLOOKUP(E$11,base!$A$8:$R$46,$A26,FALSE)","v":0},{"$f":"VLOOKUP(F$11,base!$A$8:$R$46,$A26,FALSE)","v":0},{"$f":"VLOOKUP(G$11,base!$A$8:$R$46,$A26,FALSE)","v":0},{"$f":"VLOOKUP(H$11,base!$A$8:$R$46,$A26,FALSE)","v":0},{"$f":"VLOOKUP(I$11,base!$A$8:$R$46,$A26,FALSE)","v":0},{"$f":"VLOOKUP(J$11,base!$A$8:$R$46,$A26,FALSE)","v":0},{"$f":"VLOOKUP(K$11,base!$A$8:$R$46,$A26,FALSE)","v":0},{"$f":"VLOOKUP(L$11,base!$A$8:$R$46,$A26,FALSE)","v":0},{"$f":"VLOOKUP(M$11,base!$A$8:$R$46,$A26,FALSE)","v":0},{"$f":"VLOOKUP(N$11,base!$A$8:$R$46,$A26,FALSE)","v":0},{"$f":"VLOOKUP(O$11,base!$A$8:$R$46,$A26,FALSE)","v":0},{"$f":"VLOOKUP(P$11,base!$A$8:$R$46,$A26,FALSE)","v":0},{"$f":"VLOOKUP(Q$11,base!$A$8:$R$46,$A26,FALSE)","v":0},{"$f":"VLOOKUP(R$11,base!$A$8:$R$46,$A26,FALSE)","v":0},{"$f":"VLOOKUP(S$11,base!$A$8:$R$46,$A26,FALSE)","v":0},{"$f":"VLOOKUP(T$11,base!$A$8:$R$46,$A26,FALSE)","v":0},{"$f":"VLOOKUP(U$11,base!$A$8:$R$46,$A26,FALSE)","v":0},{"$f":"VLOOKUP(V$11,base!$A$8:$R$46,$A26,FALSE)","v":0},{"$f":"VLOOKUP(W$11,base!$A$8:$R$46,$A26,FALSE)","v":0},{"$f":"VLOOKUP(X$11,base!$A$8:$R$46,$A26,FALSE)","v":0},{"$f":"VLOOKUP(Y$11,base!$A$8:$R$46,$A26,FALSE)","v":0},{"$f":"VLOOKUP(Z$11,base!$A$8:$R$46,$A26,FALSE)","v":0},{"$f":"VLOOKUP(AA$11,base!$A$8:$R$46,$A26,FALSE)","v":0},{"$f":"VLOOKUP(AB$11,base!$A$8:$R$46,$A26,FALSE)","v":0},{"$f":"VLOOKUP(AC$11,base!$A$8:$R$46,$A26,FALSE)","v":0},{"$f":"VLOOKUP(AD$11,base!$A$8:$R$46,$A26,FALSE)","v":0},{"$f":"VLOOKUP(AE$11,base!$A$8:$R$46,$A26,FALSE)","v":0},{"$f":"VLOOKUP(AF$11,base!$A$8:$R$46,$A26,FALSE)","v":0},{"$f":"VLOOKUP(AG$11,base!$A$8:$R$46,$A26,FALSE)","v":0},{"$f":"VLOOKUP(AH$11,base!$A$8:$R$46,$A26,FALSE)","v":0},{"$f":"VLOOKUP(AI$11,base!$A$8:$R$46,$A26,FALSE)","v":0}]
[17,"Otros(3)","Otros",{"$f":"VLOOKUP(D$11,base!$A$8:$R$46,$A27,FALSE)","v":0},{"$f":"VLOOKUP(E$11,base!$A$8:$R$46,$A27,FALSE)","v":1833},{"$f":"VLOOKUP(F$11,base!$A$8:$R$46,$A27,FALSE)","v":4396963},{"$f":"VLOOKUP(G$11,base!$A$8:$R$46,$A27,FALSE)","v":1387753},{"$f":"VLOOKUP(H$11,base!$A$8:$R$46,$A27,FALSE)","v":33582},{"$f":"VLOOKUP(I$11,base!$A$8:$R$46,$A27,FALSE)","v":1612805},{"$f":"VLOOKUP(J$11,base!$A$8:$R$46,$A27,FALSE)","v":72585},{"$f":"VLOOKUP(K$11,base!$A$8:$R$46,$A27,FALSE)","v":109419},{"$f":"VLOOKUP(L$11,base!$A$8:$R$46,$A27,FALSE)","v":14096},{"$f":"VLOOKUP(M$11,base!$A$8:$R$46,$A27,FALSE)","v":23469},{"$f":"VLOOKUP(N$11,base!$A$8:$R$46,$A27,FALSE)","v":33297109},{"$f":"VLOOKUP(O$11,base!$A$8:$R$46,$A27,FALSE)","v":954108},{"$f":"VLOOKUP(P$11,base!$A$8:$R$46,$A27,FALSE)","v":346210},{"$f":"VLOOKUP(Q$11,base!$A$8:$R$46,$A27,FALSE)","v":1686536},{"$f":"VLOOKUP(R$11,base!$A$8:$R$46,$A27,FALSE)","v":9430},{"$f":"VLOOKUP(S$11,base!$A$8:$R$46,$A27,FALSE)","v":805626},{"$f":"VLOOKUP(T$11,base!$A$8:$R$46,$A27,FALSE)","v":343},{"$f":"VLOOKUP(U$11,base!$A$8:$R$46,$A27,FALSE)","v":883882},{"$f":"VLOOKUP(V$11,base!$A$8:$R$46,$A27,FALSE)","v":0},{"$f":"VLOOKUP(W$11,base!$A$8:$R$46,$A27,FALSE)","v":19488},{"$f":"VLOOKUP(X$11,base!$A$8:$R$46,$A27,FALSE)","v":67799},{"$f":"VLOOKUP(Y$11,base!$A$8:$R$46,$A27,FALSE)","v":20425},{"$f":"VLOOKUP(Z$11,base!$A$8:$R$46,$A27,FALSE)","v":539899},{"$f":"VLOOKUP(AA$11,base!$A$8:$R$46,$A27,FALSE)","v":323818},{"$f":"VLOOKUP(AB$11,base!$A$8:$R$46,$A27,FALSE)","v":465836},{"$f":"VLOOKUP(AC$11,base!$A$8:$R$46,$A27,FALSE)","v":54479},{"$f":"VLOOKUP(AD$11,base!$A$8:$R$46,$A27,FALSE)","v":219831},{"$f":"VLOOKUP(AE$11,base!$A$8:$R$46,$A27,FALSE)","v":5069448},{"$f":"VLOOKUP(AF$11,base!$A$8:$R$46,$A27,FALSE)","v":227823},{"$f":"VLOOKUP(AG$11,base!$A$8:$R$46,$A27,FALSE)","v":9509},{"$f":"VLOOKUP(AH$11,base!$A$8:$R$46,$A27,FALSE)","v":1865929},{"$f":"VLOOKUP(AI$11,base!$A$8:$R$46,$A27,FALSE)","v":-204683}]
[18,null,"Total",{"$f":"SUM(D13:D27)","v":{"v":10950136,"d":"10,950,136"}},{"$f":"SUM(E13:E27)","v":{"v":20137439,"d":"20,137,439"}},{"v":376347635,"d":"376,347,635"},{"v":192463720,"d":"192,463,720"},{"v":10115602,"d":"10,115,602"},{"v":217185217,"d":"217,185,217"},{"v":21578087,"d":"21,578,087"},{"v":53505384,"d":"53,505,384"},{"v":5067291,"d":"5,067,291"},{"v":30753091,"d":"30,753,091"},{"v":95902539,"d":"95,902,539"},{"v":48481321,"d":"48,481,321"},{"v":22831510,"d":"22,831,510"},{"v":304712222,"d":"304,712,222"},{"v":4257418,"d":"4,257,418"},{"v":242919108,"d":"242,919,108"},{"v":19954875,"d":"19,954,875"},{"v":106401224,"d":"106,401,224"},{"v":9766815,"d":"9,766,815"},{"v":26244767,"d":"26,244,767"},{"v":16795258,"d":"16,795,258"},{"v":15925647,"d":"15,925,647"},{"v":39766884,"d":"39,766,884"},{"v":46549490,"d":"46,549,490"},{"v":8888748,"d":"8,888,748"},{"v":115101006,"d":"115,101,006"},{"v":23930766,"d":"23,930,766"},{"v":207625122,"d":"207,625,122"},{"v":14620308,"d":"14,620,308"},{"v":28056183,"d":"28,056,183"},{"v":119518771,"d":"119,518,771"},{"v":117680829,"d":"117,680,829"}]
[]
[null,null,"TIPO DE INSTRUMENTO",{"$f":"D12","v":"Assurant Chile"},{"$f":"E12","v":"AVLA Crédito"},"BCI Seguros","BNP Paribas Cardif","Cesce Chile","Chubb Generales","Coface Chile","Consorcio Nacional","Contempora","Continental Crédito","Continental Generales","Everest Generales","FID Chile","HDI Seguros","Konsegur","Liberty Seguros","M. de Carabineros","Mapfre","MetLife Generales","Orion Seguros","Orsan Crédito","Porvenir","Reale Chile","Renta Nacional","Solunión Chile","Southbridge","Starr International","Suramericana","Unnio","Zenit Seguros","Zurich Chile","Zurich Santander","TOTAL MERCADO","PART% MERCADO"]
[null,null,"Renta Fija",{"$f":"SUM(D32:D36)","v":{"v":216258.34208586396,"d":"216,258"}},{"v":194028.9801181646,"d":"194,029"},{"v":6472049.880726384,"d":"6,472,050"},{"v":4751873.612370533,"d":"4,751,874"},{"v":67297.175052787,"d":"67,297"},{"v":5252840.821367917,"d":"5,252,841"},{"v":562923.872554456,"d":"562,924"},{"v":1136559.728138788,"d":"1,136,560"},{"$f":"SUM(L32:L36)","v":{"v":114402.58813961428,"d":"114,403"}},{"v":612191.0247962998,"d":"612,191"},{"v":262135.41089054008,"d":"262,135"},0,{"v":498424.7075784955,"d":"498,425"},{"v":6960184.602287183,"d":"6,960,185"},0,{"v":5410406.215275286,"d":"5,410,406"},{"v":475236.59014454175,"d":"475,237"},{"v":1764738.7722972077,"d":"1,764,739"},{"v":45248.4903243764,"d":"45,248"},{"v":611858.34708731,"d":"611,858"},{"v":410382.404042908,"d":"410,382"},{"v":322348.064766552,"d":"322,348"},{"v":370606.06653662905,"d":"370,606"},{"v":794958.8685424263,"d":"794,959"},{"v":223331.85464492993,"d":"223,332"},{"v":2053747.1703775222,"d":"2,053,747"},0,{"v":4742249.93313284,"d":"4,742,250"},{"v":288540.65414565516,"d":"288,541"},{"v":583244.0683936877,"d":"583,244"},{"v":2014916.1333602977,"d":"2,014,916"},{"v":2633298.975573372,"d":"2,633,299"},{"$f":"SUM(D31:AI31)","v":{"v":49846283.35475257,"d":"49,846,283"}},{"$f":"AJ31/$AJ$50","v":{"v":0.7124274849389902,"d":"71.2%"}}]
[null,null,"Instrumentos del Estado",{"$f":"OFFSET($C$12,MATCH($C32,$C$13:$C$27,0),MATCH(D$30,$D$12:$AI$12,0))*$H$9","v":{"v":54610.57218717586,"d":"54,611"}},{"v":98090.23587254575,"d":"98,090"},{"v":427558.9735727938,"d":"427,559"},{"v":1605014.6020479833,"d":"1,605,015"},{"v":30891.97528850733,"d":"30,892"},{"v":1764355.9442186544,"d":"1,764,356"},{"v":483292.5334933796,"d":"483,293"},0,{"v":19791.890916286666,"d":"19,792"},0,{"$f":"OFFSET($C$12,MATCH($C32,$C$13:$C$27,0),MATCH(N$30,$D$12:$AI$12,0))*$H$9","v":0},0,{"v":215474.06641485472,"d":"215,474"},{"v":1185386.5900358146,"d":"1,185,387"},0,{"v":1662425.3044902112,"d":"1,662,425"},{"v":117489.35018168295,"d":"117,489"},{"v":5908.637714817544,"d":"5,909"},0,{"v":45021.332254760615,"d":"45,021"},{"$f":"OFFSET($C$12,MATCH($C32,$C$13:$C$27,0),MATCH(X$30,$D$12:$AI$12,0))*$H$9","v":{"v":121058.45277004002,"d":"121,058"}},{"v":105718.3109464258,"d":"105,718"},{"v":219105.14344364783,"d":"219,105"},{"v":146808.7240441258,"d":"146,809"},{"v":187988.51080855986,"d":"187,989"},{"v":730075.7338534837,"d":"730,076"},0,{"v":907519.1033494467,"d":"907,519"},{"v":288540.65414565516,"d":"288,541"},{"v":15471.973418401407,"d":"15,472"},{"v":418549.5752032653,"d":"418,550"},{"v":584780.9801529573,"d":"584,781"},{"v":11440929.170825478,"d":"11,440,929"},{"v":0.16351936084236027,"d":"16.4%"}]
[null,null,"Depósitos a Plazo",{"v":161647.7698986881,"d":"161,648"},{"v":10219.721136763455,"d":"10,220"},{"v":716269.377885345,"d":"716,269"},{"v":164554.8332452644,"d":"164,555"},0,{"v":700231.6702437878,"d":"700,232"},0,{"v":77403.14047322377,"d":"77,403"},0,{"v":612191.0247962998,"d":"612,191"},{"v":262135.41089054008,"d":"262,135"},0,{"v":28289.402153231258,"d":"28,289"},{"v":89800.01282979644,"d":"89,800"},0,{"v":403074.58460815845,"d":"403,075"},{"v":357747.2399628588,"d":"357,747"},{"v":43872.76647378481,"d":"43,873"},0,{"v":48670.267707837265,"d":"48,670"},{"v":1543.5441116670688,"d":"1,544"},{"v":55336.026503315086,"d":"55,336"},{"v":54412.28115955265,"d":"54,412"},{"v":14882.400781095403,"d":"14,882"},0,0,0,0,0,{"v":132638.3226019697,"d":"132,638"},{"v":54496.68056198857,"d":"54,497"},0,{"v":3989416.4780251686,"d":"3,989,416"},{"v":0.0570186934015944,"d":"5.7%"}]
[null,null,"Bonos Bancarios",0,{"v":46603.77348233293,"d":"46,604"},{"v":4826607.067913114,"d":"4,826,607"},{"v":1721311.7325226641,"d":"1,721,312"},{"v":18377.02531384074,"d":"18,377"},{"v":1733665.4674068806,"d":"1,733,665"},{"v":65284.772553803596,"d":"65,285"},{"v":411158.4980005088,"d":"411,158"},{"v":61236.97177662237,"d":"61,237"},0,0,0,{"v":180269.64861579542,"d":"180,270"},{"v":4150983.3006064794,"d":"4,150,983"},0,{"v":3040373.7113121836,"d":"3,040,374"},0,{"v":1265793.0173289233,"d":"1,265,793"},{"v":27226.486136208947,"d":"27,226"},{"v":341800.3466219581,"d":"341,800"},{"v":247440.99924543398,"d":"247,441"},{"v":82328.64067219435,"d":"82,329"},{"v":97088.64193342857,"d":"97,089"},{"v":290420.7357779532,"d":"290,421"},{"v":35343.34383637008,"d":"35,343"},{"v":457980.8944760115,"d":"457,981"},0,{"v":3055271.170795034,"d":"3,055,271"},0,{"v":418354.11107994267,"d":"418,354"},{"v":395864.4564624119,"d":"395,864"},{"v":552913.967516695,"d":"552,914"},{"v":23523698.781386796,"d":"23,523,699"},{"v":0.3362122194750938,"d":"33.6%"}]
[null,null,"Bonos y Debentures",0,{"v":39115.24962652245,"d":"39,115"},{"v":501614.4613551309,"d":"501,614"},{"v":1260992.4445546211,"d":"1,260,992"},{"v":18028.17445043893,"d":"18,028"},{"v":1054587.739498594,"d":"1,054,588"},{"v":14346.566507272753,"d":"14,347"},{"v":647998.0896650553,"d":"647,998"},{"v":33373.72544670524,"d":"33,374"},0,0,0,{"v":74391.59039461409,"d":"74,392"},{"v":1534014.6988150922,"d":"1,534,015"},0,{"v":304532.6148647326,"d":"304,533"},0,{"v":449164.35077968193,"d":"449,164"},{"v":18022.004188167448,"d":"18,022"},{"v":176366.40050275406,"d":"176,366"},{"v":40339.40791576695,"d":"40,339"},{"v":78965.08664461681,"d":"78,965"},0,{"v":342847.00793925195,"d":"342,847"},0,{"v":865690.5420480269,"d":"865,691"},0,{"v":779459.6589883596,"d":"779,460"},0,{"v":16779.661293373953,"d":"16,780"},{"v":1146005.4211326318,"d":"1,146,005"},{"v":1495604.0279037198,"d":"1,495,604"},{"v":10892238.924515136,"d":"10,892,239"},{"v":0.15567721121994188,"d":"15.6%"}]
[null,null,"Créditos Sindicados",0,0,0,0,0,0,0,0,0,0,0,0,0,0,0,0,0,0,0,0,0,0,0,0,0,0,0,0,0,0,0,0,0,{"v":0,"d":"0.0%"}]
[null,null,"Renta Variable",{"$f":"SUM(D38:D40)","v":0},{"v":28813.004629599425,"d":"28,813"},{"v":1085457.8062787717,"d":"1,085,458"},{"v":170297.22724178946,"d":"170,297"},0,0,{"v":1528.1320468744223,"d":"1,528"},{"v":36722.51977202104,"d":"36,723"},{"$f":"SUM(L38:L40)","v":0},0,{"v":12659.421093490073,"d":"12,659"},0,0,0,0,0,{"v":39767.72088451661,"d":"39,768"},{"v":485681.9471716822,"d":"485,682"},{"v":27539.049333829127,"d":"27,539"},{"v":53957.63883905564,"d":"53,958"},{"v":31895.988405343283,"d":"31,896"},{"v":567.3923112552108,"d":"567"},{"v":204884.9178131938,"d":"204,885"},{"v":231610.85161579325,"d":"231,611"},{"v":1856.4606723248241,"d":"1,856"},{"v":830704.6656968211,"d":"830,705"},{"v":50504.792690060385,"d":"50,505"},{"v":135594.6665014015,"d":"135,595"},{"v":81.70840699593577,"d":"82"},{"v":124729.16082258565,"d":"124,729"},{"v":55094.70673042423,"d":"55,095"},{"v":95462.22059856437,"d":"95,462"},{"v":3705411.999556394,"d":"3,705,412"},{"v":0.052959562355314946,"d":"5.3%"}]
[null,null,"Acciones de S.A.",{"$f":"OFFSET($C$12,MATCH($C38,$C$13:$C$27,0),MATCH(D$30,$D$12:$AI$12,0))*$H$9","v":0},0,{"v":8834.701120106465,"d":"8,835"},0,0,0,0,0,0,0,{"$f":"OFFSET($C$12,MATCH($C38,$C$13:$C$27,0),MATCH(N$30,$D$12:$AI$12,0))*$H$9","v":{"v":12659.421093490073,"d":"12,659"}},0,0,0,0,0,0,{"v":287.2841495475866,"d":"287"},0,0,{"$f":"OFFSET($C$12,MATCH($C38,$C$13:$C$27,0),MATCH(X$30,$D$12:$AI$12,0))*$H$9","v":{"v":15923.353926243892,"d":"15,923"}},0,0,0,0,{"v":610191.8598203394,"d":"610,192"},0,0,0,0,{"v":8.072986319957726,"d":"8"},0,{"v":647904.6930960474,"d":"647,905"},{"v":0.00926017106827235,"d":"0.9%"}]
[null,null,"Fondos Mutuos",0,0,{"v":281129.51679507334,"d":"281,130"},{"v":170297.22724178946,"d":"170,297"},0,0,{"v":1528.1320468744223,"d":"1,528"},{"v":36722.51977202104,"d":"36,723"},0,0,0,0,0,0,0,0,{"v":39767.72088451661,"d":"39,768"},{"v":276681.5187869536,"d":"276,682"},{"v":27539.049333829127,"d":"27,539"},{"v":53957.63883905564,"d":"53,958"},{"v":28.676769587728625,"d":"29"},{"v":567.3923112552108,"d":"567"},{"v":204884.9178131938,"d":"204,885"},{"v":231610.85161579325,"d":"231,611"},{"v":1856.4606723248241,"d":"1,856"},{"v":220512.80587648167,"d":"220,513"},{"v":50504.792690060385,"d":"50,505"},0,{"v":81.70840699593577,"d":"82"},{"v":124729.16082258565,"d":"124,729"},0,{"v":10113.35886245371,"d":"10,113"},{"v":1732513.4495408451,"d":"1,732,513"},{"v":0.02476193040702754,"d":"2.5%"}]
[null,null,"Fondos de Inversión",0,{"v":28813.004629599425,"d":"28,813"},{"v":795493.588363592,"d":"795,494"},0,0,0,0,0,0,0,0,0,0,0,0,0,0,{"v":208713.14423518104,"d":"208,713"},0,0,{"v":15943.957709511662,"d":"15,944"},0,0,0,0,0,0,{"v":135594.6665014015,"d":"135,595"},0,0,{"v":55086.63374410427,"d":"55,087"},{"v":85348.86173611066,"d":"85,349"},{"v":1324993.8569195005,"d":"1,324,994"},{"v":0.018937460880015047,"d":"1.9%"}]
[null,null,"Inversión Exterior",0,{"v":46401.64982484066,"d":"46,402"},{"v":1256433.8167339687,"d":"1,256,434"},0,0,0,0,{"v":63759.9023195837,"d":"63,760"},0,0,{"v":1133491.55842885,"d":"1,133,492"},0,0,0,0,0,0,0,0,0,{"v":11090.271752484958,"d":"11,090"},0,0,0,0,0,0,0,0,0,{"v":128246.72677100118,"d":"128,247"},{"v":117984.2758884634,"d":"117,984"},{"v":2757408.2017191933,"d":"2,757,408"},{"v":0.03941022796263603,"d":"3.9%"}]
[null,null,"Inversiones Inmobiliarias",{"$f":"SUM(D43:D45)","v":0},{"v":172855.73872445727,"d":"172,856"},{"v":832235.3256485027,"d":"832,235"},{"v":226970.70566054966,"d":"226,971"},{"v":15885.707171856211,"d":"15,886"},{"v":43662.62419351682,"d":"43,663"},0,{"v":141109.87524653866,"d":"141,110"},{"$f":"SUM(L43:L45)","v":0},{"v":29265.988861997055,"d":"29,266"},{"v":151783.77661367308,"d":"151,784"},0,0,{"v":196931.17792753121,"d":"196,931"},{"v":31176.921805652502,"d":"31,177"},{"v":228405.65859259307,"d":"228,406"},{"v":26888.208982162232,"d":"26,888"},{"v":35189.52218793694,"d":"35,190"},0,{"$f":"SUM(W43:W45)","v":0},0,0,0,{"v":65476.34968371289,"d":"65,476"},0,{"v":52337.57803886775,"d":"52,338"},0,{"v":151916.39647985177,"d":"151,916"},0,0,{"v":160744.43806578856,"d":"160,744"},{"v":330888.6591123085,"d":"330,889"},{"v":2893724.652997497,"d":"2,893,725"},{"v":0.04135852942071758,"d":"4.1%"}]
[null,null,"Bienes Raíces y Leasing",{"$f":"OFFSET($C$12,MATCH($C42,$C$13:$C$27,0),MATCH(D$30,$D$12:$AI$12,0))*$H$9","v":0},{"v":79171.7496580533,"d":"79,172"},{"v":832235.3256485027,"d":"832,235"},{"v":224905.67925073986,"d":"224,906"},{"v":14459.316498030952,"d":"14,459"},{"v":43662.62419351682,"d":"43,663"},0,{"v":120560.40115946566,"d":"120,560"},0,{"v":29265.988861997055,"d":"29,266"},{"v":151783.77661367308,"d":"151,784"},0,0,{"v":194346.38167122233,"d":"194,346"},{"v":31176.921805652502,"d":"31,177"},{"v":224352.9107328858,"d":"224,353"},{"v":26888.208982162232,"d":"26,888"},{"v":35189.52218793694,"d":"35,190"},0,0,0,0,0,{"v":64713.30297673022,"d":"64,713"},0,{"v":26166.723204752678,"d":"26,167"},0,{"v":151916.39647985177,"d":"151,916"},0,0,0,{"v":56037.071588089595,"d":"56,037"},{"v":2306832.3015132635,"d":"2,306,832"},{"v":0.032970376608558574,"d":"3.3%"}]
[null,null,"Letras Hipotecarias",{"$f":"OFFSET($C$12,MATCH($C44,$C$13:$C$27,0),MATCH(D$30,$D$12:$AI$12,0))*$H$9","v":0},0,0,{"v":120.25215986361273,"d":"120"},{"v":1426.390673825258,"d":"1,426"},0,0,{"v":20549.474087073002,"d":"20,549"},0,0,{"$f":"OFFSET($C$12,MATCH($C44,$C$13:$C$27,0),MATCH(N$30,$D$12:$AI$12,0))*$H$9","v":0},0,0,{"v":2584.796256308889,"d":"2,585"},0,{"v":4052.747859707263,"d":"4,053"},0,0,0,0,{"$f":"OFFSET($C$12,MATCH($C44,$C$13:$C$27,0),MATCH(X$30,$D$12:$AI$12,0))*$H$9","v":0},0,0,{"v":763.046706982671,"d":"763"},0,0,0,0,0,0,0,{"v":2903.8558974660064,"d":"2,904"},{"v":32400.563641226698,"d":"32,401"},{"v":4.6308471789650461E-4,"d":"0.0%"}]
[null,null,"Mutuos Hipotecarios",0,{"v":93683.98906640397,"d":"93,684"},0,{"v":1944.77424994618,"d":"1,945"},0,0,0,0,0,0,0,0,0,0,0,0,0,0,0,0,0,0,0,0,0,{"v":26170.854834115078,"d":"26,171"},0,0,0,0,{"v":160744.43806578856,"d":"160,744"},{"v":271947.73162675294,"d":"271,948"},{"v":554491.7878430067,"d":"554,492"},{"v":0.007925068094262498,"d":"0.8%"}]
[null,null,"Otros",{"$f":"SUM(D47:D49)","v":{"v":81385.75936085868,"d":"81,386"}},{"v":105271.90470288148,"d":"105,272"},{"v":583618.8234859209,"d":"583,619"},{"v":82363.4333405093,"d":"82,363"},{"v":191777.10620679456,"d":"191,777"},{"v":606975.630997658,"d":"606,976"},{"v":22078.63904128802,"d":"22,079"},{"v":76219.1296614021,"d":"76,219"},{"$f":"SUM(L47:L49)","v":{"v":23335.361093533564,"d":"23,335"}},{"v":194466.49792222533,"d":"194,466"},{"v":1046730.7939034546,"d":"1,046,731"},{"v":1317808.2195504352,"d":"1,317,808"},{"v":122176.19442143054,"d":"122,176"},{"v":1125502.4006941137,"d":"1,125,502"},{"v":84547.24409448818,"d":"84,547"},{"v":964159.9636416616,"d":"964,160"},{"v":516.3449432118416,"d":"516"},{"v":606563.5825140747,"d":"606,564"},{"v":192691.80002044069,"d":"192,692"},{"v":47563.290038206695,"d":"47,563"},{"v":3156.2114698380183,"d":"3,156"},{"v":109971.85055679141,"d":"109,972"},{"v":505443.3945031933,"d":"505,443"},{"v":173251.55969008428,"d":"173,252"},{"v":16423.60726036006,"d":"16,424"},{"v":191859.90188467535,"d":"191,860"},{"v":599975.8354045844,"d":"599,976"},{"v":613857.7566992196,"d":"613,858"},{"v":108783.51784320248,"d":"108,784"},{"v":54643.543676758716,"d":"54,644"},{"v":889729.9925848126,"d":"889,730"},{"v":21139.345723872335,"d":"21,139"},{"v":10763988.63693198,"d":"10,763,989"},{"v":0.1538441953223412,"d":"15.4%"}]
[null,null,"Cuentas Corrientes",{"$f":"OFFSET($C$12,MATCH($C47,$C$13:$C$27,0),MATCH(D$30,$D$12:$AI$12,0))*$H$9","v":{"v":81385.75936085868,"d":"81,386"}},{"v":105222.08051458356,"d":"105,222"},{"v":464101.57719514554,"d":"464,102"},{"v":44641.847534178356,"d":"44,642"},{"v":190864.2879354248,"d":"190,864"},{"v":563136.7330119361,"d":"563,137"},{"v":20105.65011188017,"d":"20,106"},{"v":73244.92733768676,"d":"73,245"},{"v":22952.206833714965,"d":"22,952"},{"v":193828.56891231594,"d":"193,829"},{"$f":"OFFSET($C$12,MATCH($C47,$C$13:$C$27,0),MATCH(N$30,$D$12:$AI$12,0))*$H$9","v":{"v":141656.36477503277,"d":"141,656"}},{"v":1291873.8733155455,"d":"1,291,874"},{"v":112765.59309539497,"d":"112,766"},{"v":1079659.3634681331,"d":"1,079,659"},{"v":84290.9199833865,"d":"84,291"},{"v":942261.6212948526,"d":"942,262"},{"v":507.0215953743147,"d":"507"},{"v":582538.1034081593,"d":"582,538"},{"v":192691.80002044069,"d":"192,692"},{"v":47033.57166311129,"d":"47,034"},{"$f":"OFFSET($C$12,MATCH($C47,$C$13:$C$27,0),MATCH(X$30,$D$12:$AI$12,0))*$H$9","v":{"v":1313.3145018016078,"d":"1,313"}},{"v":109416.66286121856,"d":"109,417"},{"v":490767.98291679984,"d":"490,768"},{"v":164449.6126053837,"d":"164,450"},{"v":3761.359262569395,"d":"3,761"},{"v":190379.06612129157,"d":"190,379"},{"v":594000.4392574375,"d":"594,000"},{"v":476061.17638360657,"d":"476,061"},{"v":102590.88497326401,"d":"102,591"},{"v":54385.07220565946,"d":"54,385"},{"v":839010.7357127169,"d":"839,011"},{"v":26702.99238692926,"d":"26,703"},{"v":9287601.170555834,"d":"9,287,601"},{"v":0.13274294285823907,"d":"13.3%"}]
[null,null,"Préstamos",0,0,0,0,0,0,0,0,0,0,0,0,0,0,0,0,0,0,0,0,0,0,0,0,0,0,0,0,0,0,0,0,0,{"v":0,"d":"0.0%"}]
[null,null,"Otros",0,{"v":49.82418829792092,"d":"50"},{"v":119517.24629077537,"d":"119,517"},{"v":37721.58580633096,"d":"37,722"},{"v":912.8182713697655,"d":"913"},{"v":43838.89798572195,"d":"43,839"},{"v":1972.9889294078505,"d":"1,973"},{"v":2974.202323715335,"d":"2,974"},{"v":383.1542598185997,"d":"383"},{"v":637.9290099093868,"d":"638"},{"v":905074.4291284218,"d":"905,074"},{"v":25934.34623488965,"d":"25,934"},{"v":9410.60132603557,"d":"9,411"},{"v":45843.03722598055,"d":"45,843"},{"v":256.32411110168806,"d":"256"},{"v":21898.342346808968,"d":"21,898"},{"v":9.323347837526937,"d":"9"},{"v":24025.479105915405,"d":"24,025"},0,{"v":529.718375095408,"d":"530"},{"v":1842.8969680364105,"d":"1,843"},{"v":555.1876955728504,"d":"555"},{"v":14675.411586393457,"d":"14,675"},{"v":8801.947084700576,"d":"8,802"},{"v":12662.247997790664,"d":"12,662"},{"v":1480.8357633837609,"d":"1,481"},{"v":5975.396147146892,"d":"5,975"},{"v":137796.58031561298,"d":"137,797"},{"v":6192.632869938482,"d":"6,193"},{"v":258.4714710992526,"d":"258"},{"v":50719.256872095626,"d":"50,719"},{"v":-5563.646663056927,"d":"-5,564 "},{"v":1476387.4663761472,"d":"1,476,387"},{"v":0.021101252464102146,"d":"2.1%"}]
[null,null,"Total",{"$f":"SUM(D31,D37,D41:D42,D46)","v":{"v":297644.10144672263,"d":"297,644"}},{"v":547371.2779999435,"d":"547,371"},{"v":10229795.652873548,"d":"10,229,796"},{"v":5231504.978613381,"d":"5,231,505"},{"v":274959.98843143776,"d":"274,960"},{"v":5903479.076559091,"d":"5,903,479"},{"v":586530.6436426184,"d":"586,531"},{"v":1454371.1551383338,"d":"1,454,371"},{"v":137737.94923314784,"d":"137,738"},{"v":835923.5115805222,"d":"835,924"},{"v":2606800.960930008,"d":"2,606,801"},{"$f":"SUM(O31,O37,O41:O42,O46)","v":{"v":1317808.2195504352,"d":"1,317,808"}},{"v":620600.9019999261,"d":"620,601"},{"v":8282618.180908827,"d":"8,282,618"},{"v":115724.16590014068,"d":"115,724"},{"v":6602971.83750954,"d":"6,602,972"},{"v":542408.8649544325,"d":"542,409"},{"v":2892173.8241709014,"d":"2,892,174"},{"v":265479.3396786462,"d":"265,479"},{"v":713379.2759645724,"d":"713,379"},{"v":456524.87567057426,"d":"456,525"},{"v":432887.30763459863,"d":"432,887"},{"v":1080934.378853016,"d":"1,080,934"},{"v":1265297.6295320168,"d":"1,265,298"},{"v":241611.9225776148,"d":"241,612"},{"v":3128649.3159978865,"d":"3,128,649"},{"v":650480.6280946448,"d":"650,481"},{"v":5643618.752813313,"d":"5,643,619"},{"v":397405.88039585354,"d":"397,406"},{"v":762616.7728930322,"d":"762,617"},{"v":3248731.9975123242,"d":"3,248,732"},{"v":3198773.4768965812,"d":"3,198,773"},{"$f":"SUM(AJ31,AJ37,AJ41:AJ42,AJ46)","v":{"v":69966816.84595764,"d":"69,966,817"}},{"v":1,"d":"100.0%"}]
[{"$nulls":3},"* Notas: Elaboración propia en base a información FECU. El ítem \"Bienes Raíces y Leasing\" equivale al ítem reportado en FECU como \"Inversiones Inmobiliarias\". \"Otros\" Incluye acciones de S.A. cerradas, muebles y útiles, caja y derechos por inversiones en instrumentos derivados. "]
[{"$nulls":3},"*Información descargada el 05-03-2024"]
[null,null,"Seleccionar Cuenta a Graficar",2,3,4,5,6,7,8,9,10,11,12,13,14,15,16,17,18,19,20,21,22,23,24,25,26,27,28,29,30,31,32,33]
[null,null,"Total",{"$f":"RANK(D55,$D$55:$AI$55,0)+COUNTIF($D$55:$AI$55,D55)-1","v":27},22,1,6,28,4,21,12,31,16,11,13,20,2,32,3,23,10,29,18,24,25,15,14,30,9,19,5,26,17,7,8]
[null,null,"Ordenado de Mayor a Menor",{"$f":"VLOOKUP($C$54,$C$31:$AI$50,D53,FALSE)+D58/10000000000","v":{"v":297644.10144672275,"d":"297,644"}},{"v":547371.2779999437,"d":"547,371"},{"v":10229795.652873548,"d":"10,229,796"},{"v":5231504.978613381,"d":"5,231,505"},{"v":274959.9884314383,"d":"274,960"},{"v":5903479.076559092,"d":"5,903,479"},{"v":586530.6436426191,"d":"586,531"},{"v":1454371.1551383345,"d":"1,454,371"},{"v":137737.94923314874,"d":"137,738"},{"v":835923.5115805232,"d":"835,924"},{"v":2606800.960930009,"d":"2,606,801"},{"v":1317808.2195504364,"d":"1,317,808"},{"v":620600.9019999274,"d":"620,601"},{"v":8282618.180908829,"d":"8,282,618"},{"v":115724.16590014228,"d":"115,724"},{"v":6602971.837509542,"d":"6,602,972"},{"v":542408.8649544342,"d":"542,409"},{"v":2892173.8241709033,"d":"2,892,174"},{"v":265479.33967864816,"d":"265,479"},{"v":713379.2759645745,"d":"713,379"},{"v":456524.87567057647,"d":"456,525"},{"v":432887.30763460096,"d":"432,887"},{"v":1080934.3788530184,"d":"1,080,934"},{"v":1265297.6295320194,"d":"1,265,298"},{"v":241611.9225776174,"d":"241,612"},{"v":3128649.3159978893,"d":"3,128,649"},{"v":650480.6280946475,"d":"650,481"},{"v":5643618.752813316,"d":"5,643,619"},{"v":397405.88039585657,"d":"397,406"},{"v":762616.7728930353,"d":"762,617"},{"v":3248731.9975123275,"d":"3,248,732"},{"v":3198773.4768965845,"d":"3,198,773"}]
[{"$nulls":3},{"$f":"D30","v":"Assurant Chile"},{"$f":"E30","v":"AVLA Crédito"},"BCI Seguros","BNP Paribas Cardif","Cesce Chile","Chubb Generales","Coface Chile","Consorcio Nacional","Contempora","Continental Crédito","Continental Generales","Everest Generales","FID Chile","HDI Seguros","Konsegur","Liberty Seguros","M. de Carabineros","Mapfre","MetLife Generales","Orion Seguros","Orsan Crédito","Porvenir","Reale Chile","Renta Nacional","Solunión Chile","Southbridge","Starr International","Suramericana","Unnio","Zenit Seguros","Zurich Chile","Zurich Santander"]
[null,null,"Compañía a Destacar",{"$f":"IF($C$58=D56,D55,0)","v":{"v":297644.10144672275,"d":"297,644"}},{"$f":"IF($C$58=E56,E55,0)","v":0},0,0,0,0,0,0,0,0,0,0,0,0,0,0,0,0,0,0,0,0,0,0,0,0,0,0,0,0,0,0]
[null,null,"Assurant Chile",1,2,3,4,5,6,7,8,9,10,11,12,13,15,16,17,18,19,20,21,22,23,24,25,26,27,28,29,30,31,32,33]
[null,null,"Ordenado de Mayor a Menor",{"$f":"HLOOKUP(D58,$D$54:$AI$56,2,FALSE)","v":{"v":10229795.652873548,"d":"10,229,796"}},{"v":8282618.180908829,"d":"8,282,618"},{"v":6602971.837509542,"d":"6,602,972"},{"v":5903479.076559092,"d":"5,903,479"},{"v":5643618.752813316,"d":"5,643,619"},{"v":5231504.978613381,"d":"5,231,505"},{"v":3248731.9975123275,"d":"3,248,732"},{"v":3198773.4768965845,"d":"3,198,773"},{"v":3128649.3159978893,"d":"3,128,649"},{"v":2892173.8241709033,"d":"2,892,174"},{"v":2606800.960930009,"d":"2,606,801"},{"v":1454371.1551383345,"d":"1,454,371"},{"v":1317808.2195504364,"d":"1,317,808"},{"v":1080934.3788530184,"d":"1,080,934"},{"v":835923.5115805232,"d":"835,924"},{"v":762616.7728930353,"d":"762,617"},{"v":713379.2759645745,"d":"713,379"},{"v":650480.6280946475,"d":"650,481"},{"v":620600.9019999274,"d":"620,601"},{"v":586530.6436426191,"d":"586,531"},{"v":547371.2779999437,"d":"547,371"},{"v":542408.8649544342,"d":"542,409"},{"v":456524.87567057647,"d":"456,525"},{"v":432887.30763460096,"d":"432,887"},{"v":397405.88039585657,"d":"397,406"},{"v":297644.10144672275,"d":"297,644"},{"v":274959.9884314383,"d":"274,960"},{"v":265479.33967864816,"d":"265,479"},{"v":241611.9225776174,"d":"241,612"},{"v":137737.94923314874,"d":"137,738"},{"v":115724.16590014228,"d":"115,724"},{"$error":"#N/A"}]
[null,null,"Orden Alfabético",{"$f":"HLOOKUP(D58,$D$54:$AI$56,3,FALSE)","v":"BCI Seguros"},"HDI Seguros","Liberty Seguros","Chubb Generales","Suramericana","BNP Paribas Cardif","Zurich Chile","Zurich Santander","Southbridge","Mapfre","Continental Generales","Consorcio Nacional","Everest Generales","Reale Chile","Continental Crédito","Zenit Seguros","Orion Seguros","Starr International","FID Chile","Coface Chile","AVLA Crédito","M. de Carabineros","Orsan Crédito","Porvenir","Unnio","Assurant Chile","Cesce Chile","MetLife Generales","Solunión Chile","Contempora","Konsegur",{"$error":"#N/A"}]
[{"$nulls":3},{"$f":"IF($C$58=D60,D59,0)","v":0},0,0,0,0,0,0,0,0,0,0,0,0,0,0,0,0,0,0,0,0,0,0,0,0,{"v":297644.10144672275,"d":"297,644"},0,0,0,0,0,{"$error":"#N/A"}]
[]
[{"$nulls":3},{"$f":"IF($C$55=$C$59,D60,D56)","v":"BCI Seguros"},"HDI Seguros","Liberty Seguros","Chubb Generales","Suramericana","BNP Paribas Cardif","Zurich Chile","Zurich Santander","Southbridge","Mapfre","Continental Generales","Consorcio Nacional","Everest Generales","Reale Chile","Continental Crédito","Zenit Seguros","Orion Seguros","Starr International","FID Chile","Coface Chile","AVLA Crédito","M. de Carabineros","Orsan Crédito","Porvenir","Unnio","Assurant Chile","Cesce Chile","MetLife Generales","Solunión Chile","Contempora","Konsegur",{"$error":"#N/A"}]
[{"$nulls":3},{"$f":"IF($C$55=$C$59,D59,D55)","v":{"v":10229795.652873548,"d":"10,229,796"}},{"v":8282618.180908829,"d":"8,282,618"},{"v":6602971.837509542,"d":"6,602,972"},{"v":5903479.076559092,"d":"5,903,479"},{"v":5643618.752813316,"d":"5,643,619"},{"v":5231504.978613381,"d":"5,231,505"},{"v":3248731.9975123275,"d":"3,248,732"},{"v":3198773.4768965845,"d":"3,198,773"},{"v":3128649.3159978893,"d":"3,128,649"},{"v":2892173.8241709033,"d":"2,892,174"},{"v":2606800.960930009,"d":"2,606,801"},{"v":1454371.1551383345,"d":"1,454,371"},{"v":1317808.2195504364,"d":"1,317,808"},{"v":1080934.3788530184,"d":"1,080,934"},{"v":835923.5115805232,"d":"835,924"},{"v":762616.7728930353,"d":"762,617"},{"v":713379.2759645745,"d":"713,379"},{"v":650480.6280946475,"d":"650,481"},{"v":620600.9019999274,"d":"620,601"},{"v":586530.6436426191,"d":"586,531"},{"v":547371.2779999437,"d":"547,371"},{"v":542408.8649544342,"d":"542,409"},{"v":456524.87567057647,"d":"456,525"},{"v":432887.30763460096,"d":"432,887"},{"v":397405.88039585657,"d":"397,406"},{"v":297644.10144672275,"d":"297,644"},{"v":274959.9884314383,"d":"274,960"},{"v":265479.33967864816,"d":"265,479"},{"v":241611.9225776174,"d":"241,612"},{"v":137737.94923314874,"d":"137,738"},{"v":115724.16590014228,"d":"115,724"},{"$error":"#N/A"}]
[{"$nulls":3},{"$f":"IF($C$55=$C$59,D61,D57)","v":0},0,0,0,0,0,0,0,0,0,0,0,0,0,0,0,0,0,0,0,0,0,0,0,0,{"v":297644.10144672275,"d":"297,644"},0,0,0,0,0,{"$error":"#N/A"}]

{"sheet":"base","index":1,"n_rows":49,"n_cols":18,"rows_kept":49,"hidden":true}
["COMISIÓN PARA EL MERCADO FINANCIERO"]
["Tipo de compañía: CIAS. DE SEGUROS GENERALES, CIAS. REASEGURADORAS GENERALES  Y  CIAS. DE SEGUROS CRéDITO"]
["Fecha: DICIEMBRE 2022"]
[]
[]
["Mantener esta columna siempre","TipodecompaÃ±Ã­a","InstrumentosdelEstado","DepÃ³sitosaplazo","Bonosbancarios","Letrashipotecarias","Bonosydebentures","CrÃ©ditossindicados","Mutuoshipotecarios","AccionesdeS.A.","Fondosmutuos","FondoinversiÃ³n","InversiÃ³nexterior","Cuentascorrientes","Inversionesinmobiliarias","PrÃ©stamos","Otros(3)","TOTAL"]
["Razón social","TipodecompaÃ±Ã­a","InstrumentosdelEstado","DepÃ³sitosaplazo","Bonosbancarios","Letrashipotecarias","Bonosydebentures","CrÃ©ditossindicados","Mutuoshipotecarios","AccionesdeS.A.","Fondosmutuos","FondoinversiÃ³n","InversiÃ³nexterior","Cuentascorrientes","Inversionesinmobiliarias","PrÃ©stamos","Otros(3)","TOTAL"]
["ASSURANT Chile","ASSURANT",2009088,5946918,{"$nulls":9},2994130,{"$nulls":3},10950136]
["BCI Seguros","BCI",15729621,26351092,177567785,null,18454075,null,null,325023,10342575,29265700,46223396,17074000,30617405,null,4396963,376347635]
["BNP Paribas Cardiff","BNP",59047460,6053867,63325957,4424,46391105,null,71547,null,6265126,null,null,1642345,8274136,null,1387753,192463720]
["CHUBB GENERALES","CHUBB GENERALES",64909526,25761075,63780443,null,38797608,{"$nulls":6},20717440,1606320,null,1612805,217185217]
["CONSORCIO NACIONAL","CONSORCIO NACIONAL",null,2847612,15126258,756002,23839435,{"$nulls":3},1350998,null,2345686,2694634,4435340,null,109419,53505384]
["CONTEMPORA","CONTEMPORA",728131,null,2252869,null,1227798,{"$nulls":6},844397,null,null,14096,5067291]
["CONTINENTAL GENERALES","CONTINENTAL",null,22522116,{"$nulls":9},7130829,1076677,null,23469,30753091]
["EVEREST","EVEREST",{"$nulls":11},47527213,null,null,954108,48481321]
["FID CHILE","FID",7927153,1040749,6632005,null,2736819,{"$nulls":6},4148574,null,null,346210,22831510]
["HDI SEGUROS","HDI",43609614,3303685,152712019,95093,56435419,{"$nulls":6},39719977,7149879,null,1686536,304712222]
["LIBERTY SEGUROS","LIBERTY",61159563,14828856,111853403,149098,11203560,{"$nulls":6},34665202,8253800,null,805626,242919108]
["MAPFRE","MAPFRE",217375,1614051,46567715,null,16524469,null,null,10569,10178936,7678423,null,21431204,1294600,null,883882,106401224]
["METLIFE GENERALES","METLIFE GENERALES",null,null,1001645,null,663018,{"$nulls":3},1013144,null,null,7089008,{"$nulls":3},9766815]
["MUT DE CARABINEROS","MUT DE CARABINEROS",4322358,13161292,{"$nulls":6},1463029,null,null,18653,989200,null,343,19954875]
["ORION seguros","ORION",1656306,1790548,12574616,null,6488407,{"$nulls":3},1985067,null,null,1730335,null,null,19488,26244767]
["PORVENIR","PORVENIR",3889309,2035777,3028818,null,2905075,{"$nulls":3},20874,null,null,4025369,null,null,20425,15925647]
["REALE CHILE","REALE",8060738,2001793,3571829,{"$nulls":5},7537585,null,null,18055040,null,null,539899,39766884]
["RENTA NACIONAL","RENTA NACIONAL",5400999,547514,10684393,28072,12613122,{"$nulls":3},8520815,null,null,6049996,2380761,null,323818,46549490]
["SOUTHBRIDGE","SOUTHBRIDGE",26859019,null,16848824,null,31848201,null,962809,22448568,8112525,null,null,7003924,962657,null,54479,115101006]
["STARR international","STARR",{"$nulls":8},1858039,null,null,21852896,null,null,219831,23930766]
["SURAMERICANA","SURAMERICANA G",33387047,null,112401471,null,28675822,{"$nulls":4},4988441,null,17513986,5588907,null,5069448,207625122]
["UNNIO","UNNIO",10615226,{"$nulls":7},3006,null,null,3774253,null,null,227823,14620308]
["ZENIT seguros","ZENIT",569204,4879679,15390980,null,617313,{"$nulls":3},4588706,null,null,2000792,null,null,9509,28056183]
["ZURICH CHILE","ZURICH CHILE G",15398171,2004898,14563600,null,42160806,null,5913685,297,null,2026602,4718115,30866668,null,null,1865929,119518771]
["ZURICH SANTANDER","ZURICH SANTANDER",21513718,null,20341351,106831,55022315,null,10004783,null,372064,3139930,4340566,982386,2061568,null,-204683,117680829]
["AVLA crédito","AVLA",3608677,375977,1714523,null,1439025,null,3446574,null,null,1060012,1707087,3871053,2912678,null,1833,20137439]
["CESCE CHILE","CESCE",1136496,null,676079,52476,663245,{"$nulls":6},7021775,531949,null,33582,10115602]
["COFACE CHILE","COFACE",17780023,null,2401785,null,527801,{"$nulls":3},56219,null,null,739674,null,null,72585,21578087]
["CREDITO CONTINENTAL","CREDITO CONTINENTAL",null,9643794,{"$nulls":5},465732,null,null,41700429,5211447,5584028,null,33297109,95902539]
["KONSEGUR","KONSEGUR",{"$nulls":11},3101009,1146979,null,9430,4257418]
["ORSAN","ORSAN",4453663,56786,9103196,null,1484061,null,null,585810,1055,586568,408004,48316,null,null,67799,16795258]
["SOLUNION","SOLUNION",6915977,null,1300259,{"$nulls":5},68298,null,null,138378,null,null,465836,8888748]
[]
[]
[]
["TOTAL CIAS. DE SEGUROS CRéDITO"]
["TOTAL MERCADO"]
[]
[]
[" (1) Tipo A=Seguros Generales; Tipo R=Reaseguradoras; Tipo CR=Seguros de Créditos."]
[" (2) Cifras en miles de pesos"]
[" (3) Incluye acciones de S.A. cerradas, muebles y útiles, caja, derechos por inversiones en instrumentos derivados."]